BEGIN:VCALENDAR
VERSION:2.0
PRODID:-//The Michael R. McNulty Veteran Business Center - ECPv6.14.2//NONSGML v1.0//EN
CALSCALE:GREGORIAN
METHOD:PUBLISH
X-WR-CALNAME:The Michael R. McNulty Veteran Business Center
X-ORIGINAL-URL:https://www.mcnultycenter.org
X-WR-CALDESC:Events for The Michael R. McNulty Veteran Business Center
REFRESH-INTERVAL;VALUE=DURATION:PT1H
X-Robots-Tag:noindex
X-PUBLISHED-TTL:PT1H
BEGIN:VTIMEZONE
TZID:America/New_York
BEGIN:DAYLIGHT
TZOFFSETFROM:-0500
TZOFFSETTO:-0400
TZNAME:EDT
DTSTART:20250309T070000
END:DAYLIGHT
BEGIN:STANDARD
TZOFFSETFROM:-0400
TZOFFSETTO:-0500
TZNAME:EST
DTSTART:20251102T060000
END:STANDARD
END:VTIMEZONE
BEGIN:VEVENT
DTSTART;TZID=America/New_York:20250904T130000
DTEND;TZID=America/New_York:20250904T143000
DTSTAMP:20260420T210347
CREATED:20250825T162134Z
LAST-MODIFIED:20250825T162134Z
UID:2811-1756990800-1756996200@www.mcnultycenter.org
SUMMARY:GOVOLOGY: Commercializing Innovation Technology
DESCRIPTION:Enter the code: 52VBOCR20 when you register! \nFor innovative small businesses\, a well-developed commercialization strategy can mean the difference between a breakthrough idea and a missed opportunity. In competitive R&D funding programs—such as SBIR and STTR—strong commercialization and transition plans are often the deciding factors for securing Phase I and Phase II awards. Understanding agency expectations and building a compelling plan is critical for success. \nThis webinar is designed to equip early-stage technology companies with the tools and strategies needed to transform cutting-edge ideas into market-ready products and services. \nREGISTER HERE
URL:https://www.mcnultycenter.org/event/govology-commercializing-innovation-technology/
ATTACH;FMTTYPE=image/png:https://www.mcnultycenter.org/wp-content/uploads/2025/08/Commercializing-Innovation-Technology-1.png
END:VEVENT
BEGIN:VEVENT
DTSTART;TZID=America/New_York:20250909T130000
DTEND;TZID=America/New_York:20250909T143000
DTSTAMP:20260420T210347
CREATED:20250825T171247Z
LAST-MODIFIED:20250825T171247Z
UID:2814-1757422800-1757428200@www.mcnultycenter.org
SUMMARY:GOVOLOGY: Provisional Billing Rates
DESCRIPTION:Enter the code: 52VBOCR20 when you register! \nWhen government contractors perform work on cost-reimbursable contracts\, the finesse to recover indirect costs accurately\, avoid significant under- or over-billing\, and manage cash flow are paramount to being successful. Provisional billing rates (PBRs) establish the billing rates applied during contract performance and serve as the cornerstone for interim cost recovery\, yet the process of establishing\, submitting\, monitoring\, and updating them can be overlooked. Additionally\, PBRs are the cornerstone for making changes to your indirect rate structure to improve the allocation of indirect rates to final cost objectives. \nREGISTER HERE
URL:https://www.mcnultycenter.org/event/govology-provisional-billing-rates/
ATTACH;FMTTYPE=image/png:https://www.mcnultycenter.org/wp-content/uploads/2025/08/Provisional-Billing-Rates-1.png
END:VEVENT
BEGIN:VEVENT
DTSTART;TZID=America/New_York:20250910T100000
DTEND;TZID=America/New_York:20250910T113000
DTSTAMP:20260420T210347
CREATED:20250626T182047Z
LAST-MODIFIED:20250626T182047Z
UID:2714-1757498400-1757503800@www.mcnultycenter.org
SUMMARY:VA Benefits
DESCRIPTION:VA benefits\, the do’s and don’ts\, the pitfalls\, the presumptions\, and the headaches you can avoid. Please join us for a breakdown (Barney style) of VA benefits and how to be aware of what is occurring with your claim(s). Differences between pro se filings\, VSO’s\, claims companies\, and attorney advocates. Information from filings\, Higher Level reviews\, Supplemental claims and Appeals to the Board. \nREGISTER HERE
URL:https://www.mcnultycenter.org/event/va-benefits-3/
ATTACH;FMTTYPE=image/png:https://www.mcnultycenter.org/wp-content/uploads/2025/06/VA-Benefits-9-10-25.png
END:VEVENT
BEGIN:VEVENT
DTSTART;TZID=America/New_York:20250911T083000
DTEND;TZID=America/New_York:20250912T130000
DTSTAMP:20260420T210347
CREATED:20250707T172538Z
LAST-MODIFIED:20250707T172538Z
UID:2726-1757579400-1757682000@www.mcnultycenter.org
SUMMARY:Boots to Business Reboot: Online\, New York\, NY
DESCRIPTION:Register for this upcoming FREE 2-day training course September 11 & 12\, 2025 from 8:30AM-1PM.\n\n\n\nBoots to Business Reboot is an entrepreneurial education and training program offered by the U.S. Small Business Administration (SBA). The course provides an overview of entrepreneurship and applicable business ownership fundamentals. Veterans of all eras\, Active Duty Service members (including National Guard and Reserve)\, and spouses are eligible to participate.\n\n\nThis event is sponsored by Pursuit Lending.\n\nREGISTER HERE
URL:https://www.mcnultycenter.org/event/boots-to-business-reboot-online-new-york-ny-7/
ATTACH;FMTTYPE=image/jpeg:https://www.mcnultycenter.org/wp-content/uploads/2025/01/B2B-Reboot.jpg
END:VEVENT
BEGIN:VEVENT
DTSTART;TZID=America/New_York:20250911T130000
DTEND;TZID=America/New_York:20250911T143000
DTSTAMP:20260420T210347
CREATED:20250825T171721Z
LAST-MODIFIED:20250825T171721Z
UID:2817-1757595600-1757601000@www.mcnultycenter.org
SUMMARY:GOVOLOGY: Avoiding Common Bid Protest Mistakes
DESCRIPTION:Enter the code: 52VBOCR20 when you register! \nBid protests are an unavoidable part of federal contracting and are becoming more frequent as competition intensifies. Often\, the outcome of litigation is influenced by what happens before a protest is even filed. To improve your chances of success\, it is essential to avoid common pitfalls in the bidding process and to develop a solid understanding of how the protest process works. Knowing the rules\, regulations\, and timelines that govern bid protests is key to protecting your company’s opportunities. \nIn this course\, government contracting attorneys John Holtz and Gregory Weber will walk participants through the most common mistakes contractors make during the protest process—and how to avoid them. \nREGISTER HERE
URL:https://www.mcnultycenter.org/event/govology-avoiding-common-bid-protest-mistakes/
ATTACH;FMTTYPE=image/png:https://www.mcnultycenter.org/wp-content/uploads/2025/08/Avoiding-Contractors-Most-Common-Bid-Protest-Mistakes-3.png
END:VEVENT
BEGIN:VEVENT
DTSTART;TZID=America/New_York:20250916T130000
DTEND;TZID=America/New_York:20250918T143000
DTSTAMP:20260420T210347
CREATED:20250825T172329Z
LAST-MODIFIED:20250825T172329Z
UID:2820-1758027600-1758205800@www.mcnultycenter.org
SUMMARY:GOVOLOGY: Winning Proposals: Your Comprehensive Guide to Responding to Federal RFPs (3-Part Series)
DESCRIPTION:Enter the code: 52VBOCR20 when you register! \nA 3-Part Series on Building Proposals That Are 100% Compliant and Score the Highest—Because That’s What It Takes to Win. \nWinning federal proposals takes more than effort—it requires structure\, strategy\, a focus on the highest-scoring content\, and airtight compliance\, all delivered through an integrated system that produces results. \nIn this 3-part training presented by BID DESIGNS\, you’ll gain the foundational building blocks to transform your proposal shop from a “Get-It-Done” group into a true Win Team. You’ll learn how to focus your team’s energy on the right activities\, align every section with evaluator scoring\, and implement repeatable systems that scale. \nREGISTER HERE
URL:https://www.mcnultycenter.org/event/govology-winning-proposals-your-comprehensive-guide-to-responding-to-federal-rfps-3-part-series-2/
ATTACH;FMTTYPE=image/png:https://www.mcnultycenter.org/wp-content/uploads/2025/08/Winning-Proposals_-Your-Comprehensive-Guide-To-Responding-to-Federal-RFPs-1.png
END:VEVENT
BEGIN:VEVENT
DTSTART;TZID=America/New_York:20250917T100000
DTEND;TZID=America/New_York:20250917T113000
DTSTAMP:20260420T210347
CREATED:20250707T201345Z
LAST-MODIFIED:20250707T201855Z
UID:2728-1758103200-1758108600@www.mcnultycenter.org
SUMMARY:Morning Coffee with Amy
DESCRIPTION:Join us\, Wednesday\, September 17\, from 10-11:30am ET for this free hour-long session and bring all your small business questions. These questions can include but not limited to\, government contracting\, certifications\, access to capital\, grants\, how to start or expand your small business\, when to utilize professional services\, marketing\, economics\, resources for veteran owned business\, or international trade. There is no limit to the number of questions that you can ask or the topic you wish to discuss. \nThis virtual forum will allow you to ask any small business question that may have been plaguing you or keeping you from taking those next steps on your business growth. Amy Amoroso\, one of the nations’ leading experts in entrepreneurship\, will answer your questions and give you the advice/next steps that you are requesting on your journey of business success. \nREGISTER HERE
URL:https://www.mcnultycenter.org/event/morning-coffee-with-amy-7/
ATTACH;FMTTYPE=image/png:https://www.mcnultycenter.org/wp-content/uploads/2025/07/Coffee-w-Amy-9-17-25.png
END:VEVENT
BEGIN:VEVENT
DTSTART;TZID=America/New_York:20250923T100000
DTEND;TZID=America/New_York:20250923T110000
DTSTAMP:20260420T210347
CREATED:20250728T183549Z
LAST-MODIFIED:20250728T183549Z
UID:2746-1758621600-1758625200@www.mcnultycenter.org
SUMMARY:Business Planning 101
DESCRIPTION:Join us Wednesday\, July 29 from 10-11 AM ET as Amy Amoroso\, Director of VBOC NY/NJ will discuss how to utilize LivePlan to create your business plan from an idea to concept. She will walk you through LivePlan with a step-by-step guide on how to create your plan for accessing capital or for your own organizational needs or purposes. \nWe will discuss the overview of business plans and why they are needed\, step-by-step guide of LivePlan\, how to access capital and eligibility for access to LivePlan. \nREGISTER HERE \nThis webinar is Sponsored By: Pursuit
URL:https://www.mcnultycenter.org/event/business-planning-101-5/
ATTACH;FMTTYPE=image/png:https://www.mcnultycenter.org/wp-content/uploads/2025/07/Business-Planning-101-9-23-25.png
END:VEVENT
BEGIN:VEVENT
DTSTART;TZID=America/New_York:20250925T130000
DTEND;TZID=America/New_York:20250925T143000
DTSTAMP:20260420T210347
CREATED:20250825T172815Z
LAST-MODIFIED:20250825T172815Z
UID:2823-1758805200-1758810600@www.mcnultycenter.org
SUMMARY:GOVOLOGY: Evolving DoD Contractor Cybersecurity Requirements
DESCRIPTION:Enter the code: 52VBOCR20 when you register! \nThe United States’ adversaries are actively stealing the country’s military and industrial competitive advantage. Ubiquitous access to every organization’s multi-interconnected information systems facilitates this theft. The US Federal government recognizes the risk of theft and sensitive information from its contractors’ information systems\, such as Federal Contract Information (FCI) and Controlled Unclassified Information (CUI). Therefore\, all Federal contractors have certain basic cybersecurity requirements they must implement in their internal information technology (IT) systems that process Federal contract-related data. \nREGISTER HERE
URL:https://www.mcnultycenter.org/event/govology-evolving-dod-contractor-cybersecurity-requirements-3/
ATTACH;FMTTYPE=image/png:https://www.mcnultycenter.org/wp-content/uploads/2025/08/Evolving-DoD-Contractor-Cybersecurity-Requirements.png
END:VEVENT
BEGIN:VEVENT
DTSTART;TZID=America/New_York:20250930T090000
DTEND;TZID=America/New_York:20250930T153000
DTSTAMP:20260420T210347
CREATED:20250916T151654Z
LAST-MODIFIED:20250916T151840Z
UID:2831-1759222800-1759246200@www.mcnultycenter.org
SUMMARY:FREE Quickbooks Virtual Training
DESCRIPTION:QuickBooks training is like having a trusted business accountant with you every step of the way! With this power-packed one day training\, learn how to: \n\nGenerate professional invoices\, purchase orders\, receipts and more.\nProduce detailed financial reports to track your company’s progress.\nKeep close tabs on all your accounts payables and receivables.\nOrganize\, file and store your company’s financial information.\nMaster shortcuts for navigating through QuickBooks’ menus\, features and functions.\nSave money by keeping track of every dollar that comes in and goes out of your business.\nAnd much\, much more.\n\nRegistration \n\nYou will need to provide your first and last name\, email address and phone number.\nSpots are limited and will be filled on a first come first serve basis.\nOnce all spots are filled\, names will be added to the waitlist.\nIf unable to attend\, we kindly ask that you inform us as soon as possible.\nA confirmation email will be sent 48 hours prior to the class. If confirmation of attendance is not given by September 26 the spot will have to be given to those on the waitlist.\n\nTo register please email Jamie Hensel at Jhensel@mcnultycenter.org \nLocation: Virtual event\, Date & time: Tues.\, Sept. 30\, 2025 9:00 AM – 3:30PM\nFunded By: John. C Dunphy Private Foundation Inc. 
URL:https://www.mcnultycenter.org/event/free-quickbooks-virtual-training/
ATTACH;FMTTYPE=image/png:https://www.mcnultycenter.org/wp-content/uploads/2025/09/Quickbooks-9-30-25.png
END:VEVENT
END:VCALENDAR