BEGIN:VCALENDAR
VERSION:2.0
PRODID:-//The Michael R. McNulty Veteran Business Center - ECPv6.14.2//NONSGML v1.0//EN
CALSCALE:GREGORIAN
METHOD:PUBLISH
X-ORIGINAL-URL:https://www.mcnultycenter.org
X-WR-CALDESC:Events for The Michael R. McNulty Veteran Business Center
REFRESH-INTERVAL;VALUE=DURATION:PT1H
X-Robots-Tag:noindex
X-PUBLISHED-TTL:PT1H
BEGIN:VTIMEZONE
TZID:America/New_York
BEGIN:DAYLIGHT
TZOFFSETFROM:-0500
TZOFFSETTO:-0400
TZNAME:EDT
DTSTART:20250309T070000
END:DAYLIGHT
BEGIN:STANDARD
TZOFFSETFROM:-0400
TZOFFSETTO:-0500
TZNAME:EST
DTSTART:20251102T060000
END:STANDARD
END:VTIMEZONE
BEGIN:VEVENT
DTSTART;TZID=America/New_York:20250507T100000
DTEND;TZID=America/New_York:20250507T113000
DTSTAMP:20260421T051254
CREATED:20250402T235426Z
LAST-MODIFIED:20250402T235426Z
UID:2543-1746612000-1746617400@www.mcnultycenter.org
SUMMARY:Morning Coffee with Amy
DESCRIPTION:Join us\, Wednesday\, May 7th\, from 10-11:30am ET for this free hour-long session and bring all your small business questions. These questions can include but not limited to\, government contracting\, certifications\, access to capital\, grants\, how to start or expand your small business\, when to utilize professional services\, marketing\, economics\, resources for veteran owned business\, or international trade. There is no limit to the number of questions that you can ask or the topic you wish to discuss. \nREGISTER HERE
URL:https://www.mcnultycenter.org/event/morning-coffee-with-amy-5/
ATTACH;FMTTYPE=image/png:https://www.mcnultycenter.org/wp-content/uploads/2025/04/Coffee-w-Amy-5-7-25.png
END:VEVENT
BEGIN:VEVENT
DTSTART;TZID=America/New_York:20250512T133000
DTEND;TZID=America/New_York:20250512T143000
DTSTAMP:20260421T051254
CREATED:20250506T144126Z
LAST-MODIFIED:20250506T144126Z
UID:2606-1747056600-1747060200@www.mcnultycenter.org
SUMMARY:National Military Spouse Day\, Online Webinar
DESCRIPTION:Supporting a military career can be a job all on its own. Military spouses looking to start or grow a small business need help. For this reason\, SBA offers the same flexible resources for spouses as we do for veteran business owners. \nPlease join us in celebrating National Military Spouse Day with a one-hour virtual information session providing details on the various programs SBA has to start\, grow and maintain your business. Presenters will explore the resources for every part of the military spouse entrepreneurship journey. The session will be in collaboration with three SBA District Offices and the Atlantic Region Veterans Business Outreach Center. \nREGISTER HERE
URL:https://www.mcnultycenter.org/event/national-military-spouse-day-online-webinar/
ATTACH;FMTTYPE=image/png:https://www.mcnultycenter.org/wp-content/uploads/2025/05/SAVE-THE-DATE-Mil-Spouse-Day.png
END:VEVENT
BEGIN:VEVENT
DTSTART;TZID=America/New_York:20250513T130000
DTEND;TZID=America/New_York:20250513T143000
DTSTAMP:20260421T051254
CREATED:20250428T145425Z
LAST-MODIFIED:20250428T145500Z
UID:2586-1747141200-1747146600@www.mcnultycenter.org
SUMMARY:GOVOLOGY: Termination Settlement Proposals
DESCRIPTION:USE CODE 52VBOCR20 WHEN YOU REGISTER! \nWhen the government terminates a contract for convenience\, it can leave contractors facing significant financial and operational setbacks. To mitigate these impacts\, businesses must act quickly to prepare a thorough termination settlement proposal—one that captures incurred costs\, outstanding commitments\, and lost profits on completed work. \nThis webinar offers practical guidance on navigating the termination settlement process. Attendees will learn how to identify and support allowable costs\, build a detailed and defensible proposal\, and implement strategies that maximize recovery during negotiations. \nREGISTER HERE
URL:https://www.mcnultycenter.org/event/govology-termination-settlement-proposals/
ATTACH;FMTTYPE=image/png:https://www.mcnultycenter.org/wp-content/uploads/2025/04/Termination-Settlement-Proposals-green-968px-by-645px.png
END:VEVENT
BEGIN:VEVENT
DTSTART;TZID=America/New_York:20250515T130000
DTEND;TZID=America/New_York:20250515T143000
DTSTAMP:20260421T051254
CREATED:20250428T150350Z
LAST-MODIFIED:20250428T150350Z
UID:2590-1747314000-1747319400@www.mcnultycenter.org
SUMMARY:GOVOLOGY: Small Business Size Standards and Affiliation: Lessons for Every Federal Contractor
DESCRIPTION:USE CODE 52VBOCR20 WHEN YOU REGISTER! \nFor small business set-aside contracts\, including socioeconomic set-asides like the 8(a) program\, a federal contractor must meet the SBA’s size standards. These size standards vary by industry and solicitation and are based on either average annual receipts or the number of employees. But size alone doesn’t tell the whole story. Many small businesses are surprised to learn that they could be deemed affiliated with other entities based on factors such as ownership\, management\, family relationships\, or subcontracting. If the SBA finds companies affiliated\, it will combine the receipts or employees of the various companies\, which can disqualify a company from small business programs. \nREGISTER HERE 
URL:https://www.mcnultycenter.org/event/govology-small-business-size-standards-and-affiliation-lessons-for-every-federal-contractor/
ATTACH;FMTTYPE=image/jpeg:https://www.mcnultycenter.org/wp-content/uploads/2025/04/Small-Business-Size-Standards-.jpg
END:VEVENT
BEGIN:VEVENT
DTSTART;TZID=America/New_York:20250520T130000
DTEND;TZID=America/New_York:20250520T143000
DTSTAMP:20260421T051254
CREATED:20250428T154130Z
LAST-MODIFIED:20250428T154130Z
UID:2593-1747746000-1747751400@www.mcnultycenter.org
SUMMARY:GOVOLOGY: Methods for Communicating Your Past Performance to Accelerate Government Sales
DESCRIPTION:USE CODE 52VBOCR20 WHEN YOU REGISTER! \nRevolutionize the way your company presents its experience and past performance in the marketplace. Whether you’re an entrepreneur\, a small business owner\, or part of a large enterprise\, this fast-paced and high-energy session will equip you with the strategies and tools you need to dramatically improve how your company is perceived by buyers and partners. \nLed by Mr. Joshua Frank\, Managing Partner at RSM Federal and bestselling author\, this webinar introduces Value-Mapping—a proven framework used by companies of all sizes to quantify the value of past performance and strategically “bridge” that value to enhance perceived maturity\, credibility\, and market position. \nREGISTER HERE
URL:https://www.mcnultycenter.org/event/govology-methods-for-communicating-your-past-performance-to-accelerate-government-sales/
ATTACH;FMTTYPE=image/jpeg:https://www.mcnultycenter.org/wp-content/uploads/2025/04/Methods-for-Communicating-.jpg
END:VEVENT
BEGIN:VEVENT
DTSTART;TZID=America/New_York:20250521T100000
DTEND;TZID=America/New_York:20250521T110000
DTSTAMP:20260421T051254
CREATED:20250407T145729Z
LAST-MODIFIED:20250407T154210Z
UID:2549-1747821600-1747825200@www.mcnultycenter.org
SUMMARY:Business Planning 101
DESCRIPTION:Join us Wednesday May 21st from 10-11 AM ET as Amy Amoroso\, Director of VBOC NY/NJ will discuss how to utilize LivePlan to create your business plan from an idea to concept. She will walk you through LivePlan with a step-by-step guide on how to create your plan for accessing capital or for your own organizational needs or purposes. \nWe will discuss the overview of business plans and why they are needed\, step-by-step guide of LivePlan\, how to access capital and eligibility for access to LivePlan. \nREGISTER HERE \nThis webinar is Sponsored By: Pursuit
URL:https://www.mcnultycenter.org/event/business-planning-101-3/
ATTACH;FMTTYPE=image/png:https://www.mcnultycenter.org/wp-content/uploads/2025/04/Business-Planning-101-5-21-25.png
END:VEVENT
BEGIN:VEVENT
DTSTART;TZID=America/New_York:20250522T083000
DTEND;TZID=America/New_York:20250523T130000
DTSTAMP:20260421T051254
CREATED:20250407T150217Z
LAST-MODIFIED:20250407T150217Z
UID:2552-1747902600-1748005200@www.mcnultycenter.org
SUMMARY:Boots to Business Reboot: Online\, New York\, NY
DESCRIPTION:Register for this upcoming FREE 2 day training course May 22 & 23\, 2025 from 8:30AM-1PM.\n\n\n\nBoots to Business Reboot is an entrepreneurial education and training program offered by the U.S. Small Business Administration (SBA). The course provides an overview of entrepreneurship and applicable business ownership fundamentals. Veterans of all eras\, Active Duty Service members (including National Guard and Reserve)\, and spouses are eligible to participate.\n\n\nThis event is sponsored by Pursuit Lending\nREGISTER HERE
URL:https://www.mcnultycenter.org/event/boots-to-business-reboot-online-new-york-ny-3/
ATTACH;FMTTYPE=image/jpeg:https://www.mcnultycenter.org/wp-content/uploads/2025/02/B2B-Reboot.jpg
END:VEVENT
BEGIN:VEVENT
DTSTART;TZID=America/New_York:20250522T130000
DTEND;TZID=America/New_York:20250522T143000
DTSTAMP:20260421T051254
CREATED:20250428T172710Z
LAST-MODIFIED:20250428T172710Z
UID:2596-1747918800-1747924200@www.mcnultycenter.org
SUMMARY:GOVOLOGY: Addressing Tariffs: Key Considerations for Government Contractors
DESCRIPTION:USE CODE 52VBOCR20 WHEN YOU REGISTER! \nNew tariffs can create serious challenges for federal government contractors\, affecting everything from material costs to pricing stability and supply chain reliability. This webinar will explore key ways tariffs impact contractors—and how businesses can proactively identify risks and implement strategies to minimize exposure. \nREGISTER HERE
URL:https://www.mcnultycenter.org/event/govology-addressing-tariffs-key-considerations-for-government-contractors/
ATTACH;FMTTYPE=image/jpeg:https://www.mcnultycenter.org/wp-content/uploads/2025/04/Addressing-Tariffs-Key-.jpg
END:VEVENT
BEGIN:VEVENT
DTSTART;TZID=America/New_York:20250527T100000
DTEND;TZID=America/New_York:20250527T110000
DTSTAMP:20260421T051254
CREATED:20250403T000522Z
LAST-MODIFIED:20250428T182018Z
UID:2546-1748340000-1748343600@www.mcnultycenter.org
SUMMARY:How to Fund Your Veteran Owned Business
DESCRIPTION:Did you know that there are special loan programs available specifically for veteran-owned businesses like yours? When you’re growing your business\, you could take advantage of discounted interest rates and more favorable loan terms\, keeping more money in your business! \nJoin Pursuit’s Keri Pratico to learn more about these programs and others that can benefit your veteran-owned business! You’ll walk away with actionable advice to get you prepared for a loan application and more. \nREGISTER HERE \n 
URL:https://www.mcnultycenter.org/event/how-to-fund-your-veteran-owned-business-5/
ATTACH;FMTTYPE=image/png:https://www.mcnultycenter.org/wp-content/uploads/2025/04/Fund-your-VOB-5-27-25.png
END:VEVENT
BEGIN:VEVENT
DTSTART;TZID=America/New_York:20250528T100000
DTEND;TZID=America/New_York:20250528T113000
DTSTAMP:20260421T051254
CREATED:20250407T152809Z
LAST-MODIFIED:20250407T152809Z
UID:2554-1748426400-1748431800@www.mcnultycenter.org
SUMMARY:VA Benefits
DESCRIPTION:VA benefits\, the do’s and don’ts\, the pitfalls\, the presumptions\, and the headaches you can avoid. Please join us for a breakdown (Barney style) of VA benefits and how to be aware of what is occurring with your claim(s). Differences between pro se filings\, VSO’s\, claims companies\, and attorney advocates. Information from filings\, Higher Level reviews\, Supplemental claims and Appeals to the Board. \nREGISTER HERE
URL:https://www.mcnultycenter.org/event/va-benefits/
ATTACH;FMTTYPE=image/png:https://www.mcnultycenter.org/wp-content/uploads/2025/04/VA-Benefits-5-28-25.png
END:VEVENT
BEGIN:VEVENT
DTSTART;TZID=America/New_York:20250529T130000
DTEND;TZID=America/New_York:20250529T143000
DTSTAMP:20260421T051254
CREATED:20250428T173419Z
LAST-MODIFIED:20250428T173419Z
UID:2600-1748523600-1748529000@www.mcnultycenter.org
SUMMARY:GOVOLOGY: Prospecting for Government Market Opportunities
DESCRIPTION:USE CODE 52VBOCR20 WHEN YOU REGISTER! \nThe U.S. government is the largest buyer of goods and services in the world\, but finding and accessing the right opportunities requires more than a SAM.gov search. In this action-oriented training\, government contractors will learn how to uncover both visible and hidden opportunities across the federal\, state\, and local landscape. \nFrom identifying open solicitations to forecasting future buys and tapping into micro-purchases and sole-source awards\, this session will give you the tools and strategies to build a strong\, sustainable pipeline of leads. You’ll leave with a complete roadmap for finding government opportunities\, engaging decision-makers\, and building a proactive prospecting system tailored to your business. \nREGISTER HERE
URL:https://www.mcnultycenter.org/event/govology-prospecting-for-government-market-opportunities/
ATTACH;FMTTYPE=image/jpeg:https://www.mcnultycenter.org/wp-content/uploads/2025/04/Prospecting-for-Government-Market-.jpg
END:VEVENT
END:VCALENDAR