BEGIN:VCALENDAR
VERSION:2.0
PRODID:-//The Michael R. McNulty Veteran Business Center - ECPv6.14.2//NONSGML v1.0//EN
CALSCALE:GREGORIAN
METHOD:PUBLISH
X-WR-CALNAME:The Michael R. McNulty Veteran Business Center
X-ORIGINAL-URL:https://www.mcnultycenter.org
X-WR-CALDESC:Events for The Michael R. McNulty Veteran Business Center
REFRESH-INTERVAL;VALUE=DURATION:PT1H
X-Robots-Tag:noindex
X-PUBLISHED-TTL:PT1H
BEGIN:VTIMEZONE
TZID:America/New_York
BEGIN:DAYLIGHT
TZOFFSETFROM:-0500
TZOFFSETTO:-0400
TZNAME:EDT
DTSTART:20210314T070000
END:DAYLIGHT
BEGIN:STANDARD
TZOFFSETFROM:-0400
TZOFFSETTO:-0500
TZNAME:EST
DTSTART:20211107T060000
END:STANDARD
END:VTIMEZONE
BEGIN:VEVENT
DTSTART;TZID=America/New_York:20210504T090000
DTEND;TZID=America/New_York:20210504T170000
DTSTAMP:20260420T031515
CREATED:20210428T182115Z
LAST-MODIFIED:20210428T182115Z
UID:508-1620118800-1620147600@www.mcnultycenter.org
SUMMARY:Quarterly Legal Clinic – 1-on-1
DESCRIPTION:Quarterly Legal Clinic – 1-on-1\n25 Minute Private Consults\n9am-5pm EST with Participating Local Attorneys By Appointment Only.\nTo Schedule Email Jennifer at JBeston@mcnultycenter.org
URL:https://www.mcnultycenter.org/event/quarterly-legal-clinic-1-on-1/
END:VEVENT
BEGIN:VEVENT
DTSTART;TZID=America/New_York:20210429T100000
DTEND;TZID=America/New_York:20210429T110000
DTSTAMP:20260420T031515
CREATED:20210428T182010Z
LAST-MODIFIED:20210608T192917Z
UID:506-1619690400-1619694000@www.mcnultycenter.org
SUMMARY:Neuro-Marketing
DESCRIPTION:Presented By: Man-Li Lin\, Economic Development Specialist \nRegister
URL:https://www.mcnultycenter.org/event/neuro-marketing/
END:VEVENT
END:VCALENDAR