BEGIN:VCALENDAR
VERSION:2.0
PRODID:-//The Michael R. McNulty Veteran Business Center - ECPv6.14.2//NONSGML v1.0//EN
CALSCALE:GREGORIAN
METHOD:PUBLISH
X-WR-CALNAME:The Michael R. McNulty Veteran Business Center
X-ORIGINAL-URL:https://www.mcnultycenter.org
X-WR-CALDESC:Events for The Michael R. McNulty Veteran Business Center
REFRESH-INTERVAL;VALUE=DURATION:PT1H
X-Robots-Tag:noindex
X-PUBLISHED-TTL:PT1H
BEGIN:VTIMEZONE
TZID:America/New_York
BEGIN:DAYLIGHT
TZOFFSETFROM:-0500
TZOFFSETTO:-0400
TZNAME:EDT
DTSTART:20210314T070000
END:DAYLIGHT
BEGIN:STANDARD
TZOFFSETFROM:-0400
TZOFFSETTO:-0500
TZNAME:EST
DTSTART:20211107T060000
END:STANDARD
END:VTIMEZONE
BEGIN:VEVENT
DTSTART;TZID=America/New_York:20210623T130000
DTEND;TZID=America/New_York:20210623T143000
DTSTAMP:20260420T013000
CREATED:20210608T151427Z
LAST-MODIFIED:20210608T192221Z
UID:720-1624453200-1624458600@www.mcnultycenter.org
SUMMARY:Govology - Intro and DCAA Overview & Proposal Adequacy
DESCRIPTION:Presented by: Joe Gregor (DCAA) \nRegister Here \nRemember to enter the code VBOCR2-2021 when you register in order to waive the registration fee! \n 
URL:https://www.mcnultycenter.org/event/govology-intro-and-dcaa-overview-proposal-adequacy/
END:VEVENT
BEGIN:VEVENT
DTSTART;TZID=America/New_York:20210623T100000
DTEND;TZID=America/New_York:20210623T110000
DTSTAMP:20260420T013000
CREATED:20210428T183649Z
LAST-MODIFIED:20210608T192240Z
UID:545-1624442400-1624446000@www.mcnultycenter.org
SUMMARY:Competitive Advantage: Using Copyright & Trade Secret to Protect Other Ideas
DESCRIPTION:Presented By: Dane Kane\, Esq \nRegister Here
URL:https://www.mcnultycenter.org/event/competitive-advantage-using-copyright-trade-secret-to-protect-other-ideas/
END:VEVENT
BEGIN:VEVENT
DTSTART;TZID=America/New_York:20210617T100000
DTEND;TZID=America/New_York:20210617T100000
DTSTAMP:20260420T013000
CREATED:20210428T183304Z
LAST-MODIFIED:20210608T192258Z
UID:537-1623924000-1623924000@www.mcnultycenter.org
SUMMARY:GSA Webinar
DESCRIPTION:Presented By: Janice Bracey\, Small Business Specialist GSA Region 2 \nRegister Here
URL:https://www.mcnultycenter.org/event/gsa-webinar/
END:VEVENT
BEGIN:VEVENT
DTSTART;TZID=America/New_York:20210617T083000
DTEND;TZID=America/New_York:20210618T083000
DTSTAMP:20260420T013000
CREATED:20210428T183535Z
LAST-MODIFIED:20210610T201832Z
UID:541-1623918600-1624005000@www.mcnultycenter.org
SUMMARY:B2B PR
DESCRIPTION:B2B PR\n8:30am–12:30pm EST Each Day \nRegister Here
URL:https://www.mcnultycenter.org/event/b2b-pr/
END:VEVENT
BEGIN:VEVENT
DTSTART;TZID=America/New_York:20210616T140000
DTEND;TZID=America/New_York:20210616T150000
DTSTAMP:20260420T013000
CREATED:20210429T153949Z
LAST-MODIFIED:20210608T192335Z
UID:673-1623852000-1623855600@www.mcnultycenter.org
SUMMARY:USDA Programs
DESCRIPTION:Presented By: Gary Pereira\, Program Specialist\, Rural Business Programs\, USDA Rural Development NY \nRegister Here
URL:https://www.mcnultycenter.org/event/usda-programs-3/
END:VEVENT
BEGIN:VEVENT
DTSTART;TZID=America/New_York:20210616T100000
DTEND;TZID=America/New_York:20210616T110000
DTSTAMP:20260420T013000
CREATED:20210428T183439Z
LAST-MODIFIED:20210608T192359Z
UID:539-1623837600-1623841200@www.mcnultycenter.org
SUMMARY:Building a Brand: How & When to Develop Trademarks
DESCRIPTION:Presented By: Dane Kane\, Esq. \nRegister Here
URL:https://www.mcnultycenter.org/event/building-a-brand-how-when-to-develop-trademarks/
END:VEVENT
BEGIN:VEVENT
DTSTART;TZID=America/New_York:20210615T130000
DTEND;TZID=America/New_York:20210617T130000
DTSTAMP:20260420T013000
CREATED:20210608T151248Z
LAST-MODIFIED:20210610T202301Z
UID:718-1623762000-1623934800@www.mcnultycenter.org
SUMMARY:Govology - Winning Proposals: Your Comprehensive Guide to Responding to Federal RFPs (3-Part Series)
DESCRIPTION:Presented by: Sandy Allbee and Brent Paris (BID Designs) \n1:00-2:30 pm EST Each Day \nRegister Here \nRemember to enter the code VBOCR2-2021 when you register in order to waive the registration fee!
URL:https://www.mcnultycenter.org/event/govology-winning-proposals-your-comprehensive-guide-to-responding-to-federal-rfps-3-part-series/
END:VEVENT
BEGIN:VEVENT
DTSTART;TZID=America/New_York:20210610T130000
DTEND;TZID=America/New_York:20210610T143000
DTSTAMP:20260420T013000
CREATED:20210608T151100Z
LAST-MODIFIED:20210608T192445Z
UID:716-1623330000-1623335400@www.mcnultycenter.org
SUMMARY:Govology - Ethics in Government Contracting: What Contractors Need to Know
DESCRIPTION:Presented by: Jack Shelton (Aegis Trade Law LLC) \nRegister Here \nRemember to enter the code VBOCR2-2021 when you register in order to waive the registration fee! \n 
URL:https://www.mcnultycenter.org/event/govology-ethics-in-government-contracting-what-contractors-need-to-know/
END:VEVENT
BEGIN:VEVENT
DTSTART;TZID=America/New_York:20210610T083000
DTEND;TZID=America/New_York:20210611T083000
DTSTAMP:20260420T013000
CREATED:20210428T183135Z
LAST-MODIFIED:20210610T201905Z
UID:533-1623313800-1623400200@www.mcnultycenter.org
SUMMARY:B2BR NYC
DESCRIPTION:B2BR NYC\n8:30am–12:30pm EST Each Day \nRegister Here
URL:https://www.mcnultycenter.org/event/b2br-nyc/
END:VEVENT
BEGIN:VEVENT
DTSTART;TZID=America/New_York:20210609T130000
DTEND;TZID=America/New_York:20210609T143000
DTSTAMP:20260420T013000
CREATED:20210608T150912Z
LAST-MODIFIED:20210608T192503Z
UID:714-1623243600-1623249000@www.mcnultycenter.org
SUMMARY:Govology - Intro to US Export Compliance: ITAR and EAR
DESCRIPTION:Presented by: Jack Shelton (Aegis Trade Law LLC) \nRegister Here \nRemember to enter the code VBOCR2-2021 when you register in order to waive the registration fee!
URL:https://www.mcnultycenter.org/event/govology-intro-to-us-export-compliance-itar-and-ear/
END:VEVENT
BEGIN:VEVENT
DTSTART;TZID=America/New_York:20210609T100000
DTEND;TZID=America/New_York:20210609T110000
DTSTAMP:20260420T013000
CREATED:20210428T183045Z
LAST-MODIFIED:20210608T192522Z
UID:531-1623232800-1623236400@www.mcnultycenter.org
SUMMARY:Protecting Your Invention: When & How to Seek Patent Protection
DESCRIPTION:Presented By: Dane Kane\, Esq. \nRegister Here
URL:https://www.mcnultycenter.org/event/protecting-your-invention-when-how-to-seek-patent-protection/
END:VEVENT
BEGIN:VEVENT
DTSTART;TZID=America/New_York:20210608T130000
DTEND;TZID=America/New_York:20210608T143000
DTSTAMP:20260420T013000
CREATED:20210608T150727Z
LAST-MODIFIED:20210608T192538Z
UID:712-1623157200-1623162600@www.mcnultycenter.org
SUMMARY:Govology - Maximizing Profitability with Effective Budgeting
DESCRIPTION:Presented by: Robert Jones (Left Brain Professionals) \nRegister Here \nRemember to enter the code VBOCR2-2021 when you register in order to waive the registration fee!
URL:https://www.mcnultycenter.org/event/govology-maximizing-profitability-with-effective-budgeting/
END:VEVENT
BEGIN:VEVENT
DTSTART;TZID=America/New_York:20210603T130000
DTEND;TZID=America/New_York:20210603T143000
DTSTAMP:20260420T013000
CREATED:20210608T150602Z
LAST-MODIFIED:20210608T152351Z
UID:710-1622725200-1622730600@www.mcnultycenter.org
SUMMARY:Govology - Finessing your Fringe\, Overhead and G&A Rates
DESCRIPTION:Presented by: Jenny Clark (Solvability) \nRegister \nRemember to enter the code VBOCR2-2021 when you register in order to waive the registration fee!
URL:https://www.mcnultycenter.org/event/govology-finessing-your-fringe-overhead-and-ga-rates/
END:VEVENT
BEGIN:VEVENT
DTSTART;TZID=America/New_York:20210601T130000
DTEND;TZID=America/New_York:20210601T143000
DTSTAMP:20260420T013000
CREATED:20210608T150411Z
LAST-MODIFIED:20210608T152412Z
UID:708-1622552400-1622557800@www.mcnultycenter.org
SUMMARY:Govology - Improving SBA Certification Applications
DESCRIPTION:Presented by: Cherie Guildford (SBA) \nRegister \nRemember to enter the code VBOCR2-2021 when you register in order to waive the registration fee! \n 
URL:https://www.mcnultycenter.org/event/govology-improving-sba-certification-applications/
END:VEVENT
BEGIN:VEVENT
DTSTART;TZID=America/New_York:20210521T083000
DTEND;TZID=America/New_York:20210521T083000
DTSTAMP:20260420T013000
CREATED:20210428T183005Z
LAST-MODIFIED:20210610T201944Z
UID:529-1621585800-1621585800@www.mcnultycenter.org
SUMMARY:B2BR PR (Taught In Spanish)
DESCRIPTION:B2BR PR (Taught In Spanish)\n8:30am – 12:30pm EST Each Day \nRegister
URL:https://www.mcnultycenter.org/event/b2br-pr-taught-in-spanish-2/
END:VEVENT
BEGIN:VEVENT
DTSTART;TZID=America/New_York:20210520T130000
DTEND;TZID=America/New_York:20210520T150000
DTSTAMP:20260420T013000
CREATED:20210428T182851Z
LAST-MODIFIED:20210608T192618Z
UID:525-1621515600-1621522800@www.mcnultycenter.org
SUMMARY:How To Succeed In Exporting
DESCRIPTION:Presented By: Vets Go Global \nRegistration coming soon
URL:https://www.mcnultycenter.org/event/how-to-succeed-in-exporting/
END:VEVENT
BEGIN:VEVENT
DTSTART;TZID=America/New_York:20210520T083000
DTEND;TZID=America/New_York:20210520T083000
DTSTAMP:20260420T013000
CREATED:20210428T182939Z
LAST-MODIFIED:20210610T202010Z
UID:527-1621499400-1621499400@www.mcnultycenter.org
SUMMARY:B2BR PR (Taught In Spanish)
DESCRIPTION:B2BR PR (Taught In Spanish)\n8:30am – 12:30pm EST Each Day \nRegister
URL:https://www.mcnultycenter.org/event/b2br-pr-taught-in-spanish/
END:VEVENT
BEGIN:VEVENT
DTSTART;TZID=America/New_York:20210519T140000
DTEND;TZID=America/New_York:20210519T150000
DTSTAMP:20260420T013000
CREATED:20210429T153903Z
LAST-MODIFIED:20210608T192649Z
UID:671-1621432800-1621436400@www.mcnultycenter.org
SUMMARY:USDA Programs
DESCRIPTION:Presented By: TBA \nRegister Here
URL:https://www.mcnultycenter.org/event/usda-programs-2/
END:VEVENT
BEGIN:VEVENT
DTSTART;TZID=America/New_York:20210519T100000
DTEND;TZID=America/New_York:20210519T110000
DTSTAMP:20260420T013000
CREATED:20210428T182821Z
LAST-MODIFIED:20210608T192750Z
UID:523-1621418400-1621422000@www.mcnultycenter.org
SUMMARY:How To Respond To An RFP
DESCRIPTION:Presented By: Lauren Linakis\, Certified Business Advisor SBDC \nRegister
URL:https://www.mcnultycenter.org/event/how-to-respond-to-an-rfp/
END:VEVENT
BEGIN:VEVENT
DTSTART;TZID=America/New_York:20210518T130000
DTEND;TZID=America/New_York:20210518T150000
DTSTAMP:20260420T013000
CREATED:20210428T182449Z
LAST-MODIFIED:20210608T192808Z
UID:518-1621342800-1621350000@www.mcnultycenter.org
SUMMARY:Export Bootcamp
DESCRIPTION:Presented By: Vets Go Global \nRegistration Coming Soon
URL:https://www.mcnultycenter.org/event/export-bootcamp/
END:VEVENT
BEGIN:VEVENT
DTSTART;TZID=America/New_York:20210518T090000
DTEND;TZID=America/New_York:20210518T170000
DTSTAMP:20260420T013000
CREATED:20210428T182640Z
LAST-MODIFIED:20210428T182640Z
UID:520-1621328400-1621357200@www.mcnultycenter.org
SUMMARY:B2BR Ronald R Emery Public Safety Facility – In Person
DESCRIPTION:B2BR Ronald R Emery Public Safety Facility – In Person\n9am – 5pm EST\n200 Clark Drive – Fultonville NY \nRegister \nTo join the B2B community or to register for a Reboot class: https://sbavets.force.com/
URL:https://www.mcnultycenter.org/event/b2br-ronald-r-emery-public-safety-facility-in-person/
LOCATION:Montgomery County\, 200 Clark Drive\, Fultonville\, NY\, 12072\, United States
END:VEVENT
BEGIN:VEVENT
DTSTART;TZID=America/New_York:20210513T100000
DTEND;TZID=America/New_York:20210513T110000
DTSTAMP:20260420T013000
CREATED:20210428T182417Z
LAST-MODIFIED:20210608T192834Z
UID:516-1620900000-1620903600@www.mcnultycenter.org
SUMMARY:How To Write Your Capabilities Statement & Define Your Government Target Market
DESCRIPTION:Presented By: Lauren Linakis \nRegister
URL:https://www.mcnultycenter.org/event/how-to-write-your-capabilities-statement-define-your-government-target-market/
END:VEVENT
BEGIN:VEVENT
DTSTART;TZID=America/New_York:20210512T100000
DTEND;TZID=America/New_York:20210512T110000
DTSTAMP:20260420T013000
CREATED:20210428T182337Z
LAST-MODIFIED:20210608T192849Z
UID:514-1620813600-1620817200@www.mcnultycenter.org
SUMMARY:Federal Government Resources for Exporters
DESCRIPTION:Presented By: U.S. Export Assistance Center New York\, EXIM & SBA \nRegister
URL:https://www.mcnultycenter.org/event/federal-government-resources-for-exporters/
END:VEVENT
BEGIN:VEVENT
DTSTART;TZID=America/New_York:20210507T083000
DTEND;TZID=America/New_York:20210507T123000
DTSTAMP:20260420T013000
CREATED:20210428T182240Z
LAST-MODIFIED:20210428T182240Z
UID:512-1620376200-1620390600@www.mcnultycenter.org
SUMMARY:B2BR PR 109th Airwing
DESCRIPTION:B2BR PR 109th Airwing\n8:30am – 12:30pm EST Each Day \nRegister
URL:https://www.mcnultycenter.org/event/b2br-pr-109th-airwing-2/
END:VEVENT
BEGIN:VEVENT
DTSTART;TZID=America/New_York:20210506T083000
DTEND;TZID=America/New_York:20210506T123000
DTSTAMP:20260420T013000
CREATED:20210428T182200Z
LAST-MODIFIED:20210428T182200Z
UID:510-1620289800-1620304200@www.mcnultycenter.org
SUMMARY:B2BR PR 109th Airwing
DESCRIPTION:B2BR PR 109th Airwing\n8:30am – 12:30pm EST Each Day \nRegister
URL:https://www.mcnultycenter.org/event/b2br-pr-109th-airwing/
END:VEVENT
BEGIN:VEVENT
DTSTART;TZID=America/New_York:20210504T090000
DTEND;TZID=America/New_York:20210504T170000
DTSTAMP:20260420T013000
CREATED:20210428T182115Z
LAST-MODIFIED:20210428T182115Z
UID:508-1620118800-1620147600@www.mcnultycenter.org
SUMMARY:Quarterly Legal Clinic – 1-on-1
DESCRIPTION:Quarterly Legal Clinic – 1-on-1\n25 Minute Private Consults\n9am-5pm EST with Participating Local Attorneys By Appointment Only.\nTo Schedule Email Jennifer at JBeston@mcnultycenter.org
URL:https://www.mcnultycenter.org/event/quarterly-legal-clinic-1-on-1/
END:VEVENT
BEGIN:VEVENT
DTSTART;TZID=America/New_York:20210429T100000
DTEND;TZID=America/New_York:20210429T110000
DTSTAMP:20260420T013000
CREATED:20210428T182010Z
LAST-MODIFIED:20210608T192917Z
UID:506-1619690400-1619694000@www.mcnultycenter.org
SUMMARY:Neuro-Marketing
DESCRIPTION:Presented By: Man-Li Lin\, Economic Development Specialist \nRegister
URL:https://www.mcnultycenter.org/event/neuro-marketing/
END:VEVENT
END:VCALENDAR