BEGIN:VCALENDAR
VERSION:2.0
PRODID:-//The Michael R. McNulty Veteran Business Center - ECPv6.14.2//NONSGML v1.0//EN
CALSCALE:GREGORIAN
METHOD:PUBLISH
X-WR-CALNAME:The Michael R. McNulty Veteran Business Center
X-ORIGINAL-URL:https://www.mcnultycenter.org
X-WR-CALDESC:Events for The Michael R. McNulty Veteran Business Center
REFRESH-INTERVAL;VALUE=DURATION:PT1H
X-Robots-Tag:noindex
X-PUBLISHED-TTL:PT1H
BEGIN:VTIMEZONE
TZID:America/New_York
BEGIN:DAYLIGHT
TZOFFSETFROM:-0500
TZOFFSETTO:-0400
TZNAME:EDT
DTSTART:20210314T070000
END:DAYLIGHT
BEGIN:STANDARD
TZOFFSETFROM:-0400
TZOFFSETTO:-0500
TZNAME:EST
DTSTART:20211107T060000
END:STANDARD
END:VTIMEZONE
BEGIN:VEVENT
DTSTART;TZID=America/New_York:20210810T130000
DTEND;TZID=America/New_York:20210810T143000
DTSTAMP:20260419T201326
CREATED:20210715T143148Z
LAST-MODIFIED:20210715T143148Z
UID:946-1628600400-1628605800@www.mcnultycenter.org
SUMMARY:Govology - Audit Strategies for Government Contractors
DESCRIPTION:Presented by: -Robert Jones\, Left Brain Professionals \nRegister Here \nRemember to enter the code VBOCR2-2021 when you register in order to waive the registration fee!
URL:https://www.mcnultycenter.org/event/govology-audit-strategies-for-government-contractors/
END:VEVENT
BEGIN:VEVENT
DTSTART;TZID=America/New_York:20210810T100000
DTEND;TZID=America/New_York:20210810T110000
DTSTAMP:20260419T201326
CREATED:20210804T144752Z
LAST-MODIFIED:20210804T144752Z
UID:965-1628589600-1628593200@www.mcnultycenter.org
SUMMARY:The U.S. Small Business Administration will launch the Paycheck Protection Program forgiveness application portal
DESCRIPTION:Join us to learn more about this intuitive platform that will allow you to apply for forgiveness at your convenience\, take advantage of the pre-population of loan information into the forgiveness’ application\, and track progress and approval status \nRegister Here
URL:https://www.mcnultycenter.org/event/the-u-s-small-business-administration-will-launch-the-paycheck-protection-program-forgiveness-application-portal-2/
END:VEVENT
BEGIN:VEVENT
DTSTART;TZID=America/New_York:20210809T083000
DTEND;TZID=America/New_York:20210810T083000
DTSTAMP:20260419T201326
CREATED:20210428T184933Z
LAST-MODIFIED:20210610T201702Z
UID:569-1628497800-1628584200@www.mcnultycenter.org
SUMMARY:B2BR NYC
DESCRIPTION:B2BR NYC\n8:30am – 12:30pm EST Each Day \nRegister Here
URL:https://www.mcnultycenter.org/event/b2br-nyc-5/
END:VEVENT
BEGIN:VEVENT
DTSTART;TZID=America/New_York:20210805T130000
DTEND;TZID=America/New_York:20210805T143000
DTSTAMP:20260419T201326
CREATED:20210715T142807Z
LAST-MODIFIED:20210715T142807Z
UID:944-1628168400-1628173800@www.mcnultycenter.org
SUMMARY:Govology -  How Do We Drive Down Overhead? (2021 Update)
DESCRIPTION:Presented by: Jenny Clark\, Solvability \nRegister Here \nRemember to enter the code VBOCR2-2021 when you register in order to waive the registration fee!
URL:https://www.mcnultycenter.org/event/govology-how-do-we-drive-down-overhead-2021-update/
END:VEVENT
BEGIN:VEVENT
DTSTART;TZID=America/New_York:20210805T100000
DTEND;TZID=America/New_York:20210805T120000
DTSTAMP:20260419T201326
CREATED:20210428T184907Z
LAST-MODIFIED:20210608T191440Z
UID:567-1628157600-1628164800@www.mcnultycenter.org
SUMMARY:A Comprehensive Strategy For A New Reality
DESCRIPTION:Presented By: Catherine Potvin\, Founder and CEO\, Stragility \nRegister Here
URL:https://www.mcnultycenter.org/event/a-comprehensive-strategy-for-a-new-reality/
END:VEVENT
BEGIN:VEVENT
DTSTART;TZID=America/New_York:20210805T090000
DTEND;TZID=America/New_York:20210805T100000
DTSTAMP:20260419T201326
CREATED:20210804T144626Z
LAST-MODIFIED:20210804T144626Z
UID:963-1628154000-1628157600@www.mcnultycenter.org
SUMMARY:The U.S. Small Business Administration will launch the Paycheck Protection Program forgiveness application portal
DESCRIPTION:Join us to learn more about this intuitive platform that will allow you to apply for forgiveness at your convenience\, take advantage of the pre-population of loan information into the forgiveness’ application\, and track progress and approval status. \nRegister Here
URL:https://www.mcnultycenter.org/event/the-u-s-small-business-administration-will-launch-the-paycheck-protection-program-forgiveness-application-portal/
END:VEVENT
BEGIN:VEVENT
DTSTART;TZID=America/New_York:20210803T130000
DTEND;TZID=America/New_York:20210803T143000
DTSTAMP:20260419T201326
CREATED:20210715T142557Z
LAST-MODIFIED:20210715T142557Z
UID:942-1627995600-1628001000@www.mcnultycenter.org
SUMMARY:Govology - Marketing Your Existing GSA Schedule Contract
DESCRIPTION:Presented by: Albert Garza\, GSA/OSDBU \nRegister Here \nRemember to enter the code VBOCR2-2021 when you register in order to waive the registration fee!
URL:https://www.mcnultycenter.org/event/govology-marketing-your-existing-gsa-schedule-contract/
END:VEVENT
BEGIN:VEVENT
DTSTART;TZID=America/New_York:20210729T130000
DTEND;TZID=America/New_York:20210729T143000
DTSTAMP:20260419T201326
CREATED:20210608T150036Z
LAST-MODIFIED:20210608T191500Z
UID:706-1627563600-1627569000@www.mcnultycenter.org
SUMMARY:Govology - Accounting Systems Checklist for DCAA Compliance for SF1408 – 2021 Update
DESCRIPTION:Presented by: Jenny Clark\, Solvability LLC \nRegister Here \nRemember to enter the code VBOCR2-2021 when you register in order to waive the registration fee!
URL:https://www.mcnultycenter.org/event/govology-accounting-systems-checklist-for-dcaa-compliance-for-sf1408-2021-update/
END:VEVENT
BEGIN:VEVENT
DTSTART;TZID=America/New_York:20210729T100000
DTEND;TZID=America/New_York:20210729T110000
DTSTAMP:20260419T201326
CREATED:20210428T184631Z
LAST-MODIFIED:20210608T191527Z
UID:565-1627552800-1627556400@www.mcnultycenter.org
SUMMARY:Neuro-Marketing
DESCRIPTION:Presented By: Man-Li Lin\, Economic Development Specialist \nRegister Here
URL:https://www.mcnultycenter.org/event/neuro-marketing-2/
END:VEVENT
BEGIN:VEVENT
DTSTART;TZID=America/New_York:20210729T083000
DTEND;TZID=America/New_York:20210730T083000
DTSTAMP:20260419T201326
CREATED:20210615T194249Z
LAST-MODIFIED:20210615T194355Z
UID:914-1627547400-1627633800@www.mcnultycenter.org
SUMMARY:B2BR Auburn SCORE NY
DESCRIPTION:8:30am – 12:30pm EST Each Day \nRegister Here
URL:https://www.mcnultycenter.org/event/b2br-auburn-score-ny-virtual/
END:VEVENT
BEGIN:VEVENT
DTSTART;TZID=America/New_York:20210728T130000
DTEND;TZID=America/New_York:20210728T143000
DTSTAMP:20260419T201326
CREATED:20210608T145853Z
LAST-MODIFIED:20210608T191545Z
UID:704-1627477200-1627482600@www.mcnultycenter.org
SUMMARY:Govology - DIBBS Masterclass – System Overview\, Searching For Opportunities\, and How To Bid An Opportunity
DESCRIPTION:Presented by: Joshua Frank (RSM Federal) \nRegister Here \nRemember to enter the code VBOCR2-2021 when you register in order to waive the registration fee!
URL:https://www.mcnultycenter.org/event/govology-dibbs-masterclass-system-overview-searching-for-opportunities-and-how-to-bid-an-opportunity/
END:VEVENT
BEGIN:VEVENT
DTSTART;TZID=America/New_York:20210727T130000
DTEND;TZID=America/New_York:20210727T143000
DTSTAMP:20260419T201326
CREATED:20210608T145716Z
LAST-MODIFIED:20210608T191610Z
UID:702-1627390800-1627396200@www.mcnultycenter.org
SUMMARY:Govology - Understanding the Domestic Preference Statutes: The Buy American Act and Trade Agreements Act
DESCRIPTION:Presented by: John Mattox\, Schoonover & Moriarty LLC \nRegister Here \nRemember to enter the code VBOCR2-2021 when you register in order to waive the registration fee!
URL:https://www.mcnultycenter.org/event/govology-understanding-the-domestic-preference-statutes-the-buy-american-act-and-trade-agreements-act/
END:VEVENT
BEGIN:VEVENT
DTSTART;TZID=America/New_York:20210722T140000
DTEND;TZID=America/New_York:20210722T150000
DTSTAMP:20260419T201326
CREATED:20210428T184155Z
LAST-MODIFIED:20210608T191627Z
UID:559-1626962400-1626966000@www.mcnultycenter.org
SUMMARY:SBIR/STTR Program
DESCRIPTION:Presented By: Man-Li Lin\, Economic Development Specialist \nRegister Here
URL:https://www.mcnultycenter.org/event/sbir-sttr-program/
END:VEVENT
BEGIN:VEVENT
DTSTART;TZID=America/New_York:20210722T130000
DTEND;TZID=America/New_York:20210722T143000
DTSTAMP:20260419T201326
CREATED:20210608T145532Z
LAST-MODIFIED:20210608T191642Z
UID:700-1626958800-1626964200@www.mcnultycenter.org
SUMMARY:Govology - Advanced Teaming Strategies To Accelerate Small Business Government Revenue – Update 2021
DESCRIPTION:Presented by: Joshua Frank\, RSM Federal \nRegister Here \nRemember to enter the code VBOCR2-2021 when you register in order to waive the registration fee! \n 
URL:https://www.mcnultycenter.org/event/govology-advanced-teaming-strategies-to-accelerate-small-business-government-revenue-update-2021/
END:VEVENT
BEGIN:VEVENT
DTSTART;TZID=America/New_York:20210722T130000
DTEND;TZID=America/New_York:20210722T140000
DTSTAMP:20260419T201326
CREATED:20210428T184256Z
LAST-MODIFIED:20210608T191700Z
UID:563-1626958800-1626962400@www.mcnultycenter.org
SUMMARY:Access To Capital (7a)
DESCRIPTION:Presented By: TBA \nRegister Here
URL:https://www.mcnultycenter.org/event/access-to-capital-7a/
END:VEVENT
BEGIN:VEVENT
DTSTART;TZID=America/New_York:20210722T100000
DTEND;TZID=America/New_York:20210722T110000
DTSTAMP:20260419T201326
CREATED:20210428T184226Z
LAST-MODIFIED:20210608T191717Z
UID:561-1626948000-1626951600@www.mcnultycenter.org
SUMMARY:How To Respond To An RFP
DESCRIPTION:Presented By: Lauren Linakis\, Certified Business Advisor SBDC \nRegister Here
URL:https://www.mcnultycenter.org/event/how-to-respond-to-an-rfp-2/
END:VEVENT
BEGIN:VEVENT
DTSTART;TZID=America/New_York:20210721T130000
DTEND;TZID=America/New_York:20210721T140000
DTSTAMP:20260419T201326
CREATED:20210428T184048Z
LAST-MODIFIED:20210608T191741Z
UID:555-1626872400-1626876000@www.mcnultycenter.org
SUMMARY:Access To Capital Microloans and C/A
DESCRIPTION:Presented By: TBA \nRegister Here
URL:https://www.mcnultycenter.org/event/access-to-capital-microloans-and-c-a/
END:VEVENT
BEGIN:VEVENT
DTSTART;TZID=America/New_York:20210721T100000
DTEND;TZID=America/New_York:20210721T110000
DTSTAMP:20260419T201326
CREATED:20210428T184120Z
LAST-MODIFIED:20210608T191756Z
UID:557-1626861600-1626865200@www.mcnultycenter.org
SUMMARY:How To Write Your Capabilities Statement & Define Your Government Target Market
DESCRIPTION:Presented By: Lauren Linakis\, Certified Business Advisor SBDC \nRegister Here
URL:https://www.mcnultycenter.org/event/how-to-write-your-capabilities-statement-define-your-government-target-market-2/
END:VEVENT
BEGIN:VEVENT
DTSTART;TZID=America/New_York:20210720T140000
DTEND;TZID=America/New_York:20210720T150000
DTSTAMP:20260419T201326
CREATED:20210428T183950Z
LAST-MODIFIED:20210608T191815Z
UID:553-1626789600-1626793200@www.mcnultycenter.org
SUMMARY:Access To Capital 504 Loan Program
DESCRIPTION:Presented By: TBA \nRegister Here
URL:https://www.mcnultycenter.org/event/access-to-capital-504-loan-program/
END:VEVENT
BEGIN:VEVENT
DTSTART;TZID=America/New_York:20210720T130000
DTEND;TZID=America/New_York:20210720T143000
DTSTAMP:20260419T201326
CREATED:20210608T145319Z
LAST-MODIFIED:20210608T191831Z
UID:698-1626786000-1626791400@www.mcnultycenter.org
SUMMARY:Govology - GSA Multiple Award Schedule Consolidation – The Facts You Need to Know
DESCRIPTION:Presented by: Courtney Fairchild\, Global Services Inc. \nRegister Here \nRemember to enter the code VBOCR2-2021 when you register in order to waive the registration fee!
URL:https://www.mcnultycenter.org/event/govology-gsa-multiple-award-schedule-consolidation-the-facts-you-need-to-know/
END:VEVENT
BEGIN:VEVENT
DTSTART;TZID=America/New_York:20210720T100000
DTEND;TZID=America/New_York:20210720T110000
DTSTAMP:20260419T201326
CREATED:20210428T183916Z
LAST-MODIFIED:20210608T191845Z
UID:551-1626775200-1626778800@www.mcnultycenter.org
SUMMARY:How To Register at SAM.GOV
DESCRIPTION:Presented By: Lauren Linakis\, Certified Business Advisor SBDC \nRegister Here
URL:https://www.mcnultycenter.org/event/how-to-register-at-sam-gov/
END:VEVENT
BEGIN:VEVENT
DTSTART;TZID=America/New_York:20210715T130000
DTEND;TZID=America/New_York:20210715T143000
DTSTAMP:20260419T201326
CREATED:20210608T145104Z
LAST-MODIFIED:20210608T191911Z
UID:696-1626354000-1626359400@www.mcnultycenter.org
SUMMARY:Govology - The Concept of “Responsibility” in Government Contracting
DESCRIPTION:Presented by: Steven Koprince and Chris Coleman\, Koprince Law LLC. \nRegister Here \nRemember to enter the code VBOCR2-2021 when you register in order to waive the registration fee!
URL:https://www.mcnultycenter.org/event/govology-the-concept-of-responsibility-in-government-contracting/
END:VEVENT
BEGIN:VEVENT
DTSTART;TZID=America/New_York:20210715T090000
DTEND;TZID=America/New_York:20210715T100000
DTSTAMP:20260419T201326
CREATED:20210701T203551Z
LAST-MODIFIED:20210701T203551Z
UID:938-1626339600-1626343200@www.mcnultycenter.org
SUMMARY:Financing your Business
DESCRIPTION:One challenge for most entrepreneurs when starting and growing a small business is acquiring the appropriate financing. In this program\, participants will understand the process of borrowing money\, the 5 C’s of credit\, the importance of managing your credit score and the financing alternatives available to small business owners. \nRegister Here
URL:https://www.mcnultycenter.org/event/financing-your-business/
END:VEVENT
BEGIN:VEVENT
DTSTART;TZID=America/New_York:20210715T083000
DTEND;TZID=America/New_York:20210716T083000
DTSTAMP:20260419T201326
CREATED:20210428T183822Z
LAST-MODIFIED:20210610T201754Z
UID:547-1626337800-1626424200@www.mcnultycenter.org
SUMMARY:B2BR NYC
DESCRIPTION:B2BR NYC\n8:30am – 12:30pm EST Each Day \nRegister Here
URL:https://www.mcnultycenter.org/event/b2br-nyc-3/
END:VEVENT
BEGIN:VEVENT
DTSTART;TZID=America/New_York:20210714T130000
DTEND;TZID=America/New_York:20210714T143000
DTSTAMP:20260419T201326
CREATED:20210608T144753Z
LAST-MODIFIED:20210608T191928Z
UID:694-1626267600-1626273000@www.mcnultycenter.org
SUMMARY:Govology - Hunt\, Fish\, and Farm Your Way to GOVCON Success
DESCRIPTION:Presented by: William Randolph\, Think Acquisition. \nRegister Here \nRemember to enter the code VBOCR2-2021 when you register in order to waive the registration fee!
URL:https://www.mcnultycenter.org/event/govology-hunt-fish-and-farm-your-way-to-govcon-success/
END:VEVENT
BEGIN:VEVENT
DTSTART;TZID=America/New_York:20210714T090000
DTEND;TZID=America/New_York:20210714T120000
DTSTAMP:20260419T201326
CREATED:20210701T203427Z
LAST-MODIFIED:20210701T203427Z
UID:936-1626253200-1626264000@www.mcnultycenter.org
SUMMARY:How to do Business with the Federal Government
DESCRIPTION:The SBA Buffalo District Office presents a series of free online contracting courses designed to help prospective and existing small businesses understand the basics about contracting with the federal government. \nRegister Here
URL:https://www.mcnultycenter.org/event/how-to-do-business-with-the-federal-government/
END:VEVENT
BEGIN:VEVENT
DTSTART;TZID=America/New_York:20210714T090000
DTEND;TZID=America/New_York:20210714T100000
DTSTAMP:20260419T201326
CREATED:20210701T203252Z
LAST-MODIFIED:20210701T203252Z
UID:934-1626253200-1626256800@www.mcnultycenter.org
SUMMARY:Learn to Grow your Business on LinkedIn: For Beginners and Beyond
DESCRIPTION:Learn how to optimize your business presence on LinkedIn. Using a combination of on-platform live demonstrations and clear recommendations\, this high-impact webinar will show you what you need to be doing to make yourself stand out as the solution to their problems. \nRegister Here
URL:https://www.mcnultycenter.org/event/learn-to-grow-your-business-on-linkedin-for-beginners-and-beyond/
END:VEVENT
BEGIN:VEVENT
DTSTART;TZID=America/New_York:20210713T130000
DTEND;TZID=America/New_York:20210713T143000
DTSTAMP:20260419T201326
CREATED:20210608T144558Z
LAST-MODIFIED:20210608T191951Z
UID:692-1626181200-1626186600@www.mcnultycenter.org
SUMMARY:Govology - Automated Bookkeeping & Outsourced GovCon Accounting
DESCRIPTION:Presented by: Robert Jones\, Left Brain Professionals. \nRegister Here \nRemember to enter the code VBOCR2-2021 when you register in order to waive the registration fee!
URL:https://www.mcnultycenter.org/event/govology-automated-bookkeeping-outsourced-govcon-accounting/
END:VEVENT
BEGIN:VEVENT
DTSTART;TZID=America/New_York:20210713T090000
DTEND;TZID=America/New_York:20210713T100000
DTSTAMP:20260419T201326
CREATED:20210701T203128Z
LAST-MODIFIED:20210701T203128Z
UID:932-1626166800-1626170400@www.mcnultycenter.org
SUMMARY:Creating a Winning Business Plan
DESCRIPTION:Once you’ve found the right idea\, it’s time to put a plan in motion.  A business plan is the strategic guide for your business.  Planning is key to working toward success and is required by lenders.  Join this program to learn how to create a winning business plan. \nRegister Here
URL:https://www.mcnultycenter.org/event/creating-a-winning-business-plan/
END:VEVENT
BEGIN:VEVENT
DTSTART;TZID=America/New_York:20210709T100000
DTEND;TZID=America/New_York:20210709T110000
DTSTAMP:20260419T201326
CREATED:20210701T203014Z
LAST-MODIFIED:20210701T203014Z
UID:930-1625824800-1625828400@www.mcnultycenter.org
SUMMARY:Leveraging America’s Seed Fund: SBIR/STTR Overview
DESCRIPTION:The goals of the SBIR/STTR are to meet federal research and development needs.  Increase private-sector commercialization of innovation derived from federal research and development funding.  Stimulate technological innovation.  Foster technology transfer through cooperative R&D between small businesses and research institutions (STTR).  Join this program to see if this program might be a good fit for your business. \nRegister Here
URL:https://www.mcnultycenter.org/event/leveraging-americas-seed-fund-sbir-sttr-overview/
END:VEVENT
END:VCALENDAR