BEGIN:VCALENDAR
VERSION:2.0
PRODID:-//The Michael R. McNulty Veteran Business Center - ECPv6.14.2//NONSGML v1.0//EN
CALSCALE:GREGORIAN
METHOD:PUBLISH
X-ORIGINAL-URL:https://www.mcnultycenter.org
X-WR-CALDESC:Events for The Michael R. McNulty Veteran Business Center
REFRESH-INTERVAL;VALUE=DURATION:PT1H
X-Robots-Tag:noindex
X-PUBLISHED-TTL:PT1H
BEGIN:VTIMEZONE
TZID:America/New_York
BEGIN:DAYLIGHT
TZOFFSETFROM:-0500
TZOFFSETTO:-0400
TZNAME:EDT
DTSTART:20260308T070000
END:DAYLIGHT
BEGIN:STANDARD
TZOFFSETFROM:-0400
TZOFFSETTO:-0500
TZNAME:EST
DTSTART:20261101T060000
END:STANDARD
END:VTIMEZONE
BEGIN:VEVENT
DTSTART;TZID=America/New_York:20260505T100000
DTEND;TZID=America/New_York:20260505T110000
DTSTAMP:20260421T114612
CREATED:20260420T150252Z
LAST-MODIFIED:20260420T150252Z
UID:3150-1777975200-1777978800@www.mcnultycenter.org
SUMMARY:Morning Coffee with Amy
DESCRIPTION:Join us\, Tuesday\, May 5th\, from 10-11:00AM ET for this free hour-long session and bring all your small business questions. These questions can include but not limited to\, government contracting\, certifications\, access to capital\, grants\, how to start or expand your small business\, when to utilize professional services\, marketing\, economics\, resources for veteran owned business\, or international trade. There is no limit to the number of questions that you can ask or the topic you wish to discuss. \nREGISTER HERE
URL:https://www.mcnultycenter.org/event/morning-coffee-with-amy-11/
ATTACH;FMTTYPE=image/png:https://www.mcnultycenter.org/wp-content/uploads/2026/04/Morning-Coffee-with-Amy-5-5-26.png
END:VEVENT
BEGIN:VEVENT
DTSTART;TZID=America/New_York:20260513T100000
DTEND;TZID=America/New_York:20260513T110000
DTSTAMP:20260421T114612
CREATED:20260420T172144Z
LAST-MODIFIED:20260420T172144Z
UID:3153-1778666400-1778670000@www.mcnultycenter.org
SUMMARY:AI for Small Business Operations
DESCRIPTION:AI tools like ChatGPT\, Claude\, and Google Gemini have moved from novelty to business necessity — but most small business owners aren’t sure where to start or how to get results that actually matter. In this hands-on session\, we cut through the hype and show you exactly how to use AI to save time on the tasks that eat up your week. Through live demonstrations\, you’ll watch AI draft professional emails\, turn rough notes into polished SOPs\, generate pitch decks\, summarize contracts\, and work inside Google Docs\, Sheets\, and Gmail — all in real time. \nREGISTER HERE
URL:https://www.mcnultycenter.org/event/ai-for-small-business-operations/
ATTACH;FMTTYPE=image/png:https://www.mcnultycenter.org/wp-content/uploads/2026/04/AI-Small-Business-Owners-Graphic-5-13-26.png
END:VEVENT
BEGIN:VEVENT
DTSTART;TZID=America/New_York:20260514T083000
DTEND;TZID=America/New_York:20260515T123000
DTSTAMP:20260421T114612
CREATED:20260420T183145Z
LAST-MODIFIED:20260420T183145Z
UID:3159-1778747400-1778848200@www.mcnultycenter.org
SUMMARY:Boots to Business Reboot: Online\, New York\, NY
DESCRIPTION:Register for this upcoming FREE 2-day training course Thurs. May 14 and Fri. May 15\, 2026 from 8:30AM-12:30PM.\n\n\n\nBoots to Business Reboot is an entrepreneurial education and training program offered by the U.S. Small Business Administration (SBA). The course provides an overview of entrepreneurship and applicable business ownership fundamentals. Veterans of all eras\, Active Duty Service members (including National Guard and Reserve)\, and spouses are eligible to participate.\n\n\nREGISTER HERE
URL:https://www.mcnultycenter.org/event/boots-to-business-reboot-online-new-york-ny-15/
ATTACH;FMTTYPE=image/jpeg:https://www.mcnultycenter.org/wp-content/uploads/2025/07/B2B-Reboot.jpg
END:VEVENT
BEGIN:VEVENT
DTSTART;TZID=America/New_York:20260514T100000
DTEND;TZID=America/New_York:20260514T110000
DTSTAMP:20260421T114612
CREATED:20260420T174807Z
LAST-MODIFIED:20260420T174807Z
UID:3156-1778752800-1778756400@www.mcnultycenter.org
SUMMARY:Business 201\, Your Next Level Business
DESCRIPTION:Business 201: Your Next Level Business is a comprehensive class designed to help entrepreneurs build a strong\, sustainable foundation for long-term growth. Participants are guided through clarifying their purpose\, mission and vision\, developing an entrepreneurial mindset and cultivating the grit and growth mindset needed to navigate challenges. Through practical exercises such as SWOT analysis and the Business Model Canvas\, business owners gain tools to sharpen their strategy\, strengthen profitability and align daily operations with their long-term goals. \nREGISTER HERE
URL:https://www.mcnultycenter.org/event/business-201-your-next-level-business/
ATTACH;FMTTYPE=image/png:https://www.mcnultycenter.org/wp-content/uploads/2026/04/Business-201-4-2-26.png
END:VEVENT
BEGIN:VEVENT
DTSTART;TZID=America/New_York:20260625T083000
DTEND;TZID=America/New_York:20260626T130000
DTSTAMP:20260421T114612
CREATED:20260120T213007Z
LAST-MODIFIED:20260120T213007Z
UID:3009-1782376200-1782478800@www.mcnultycenter.org
SUMMARY:Military Spouse Pathway to Business: Online\, New York\, NY
DESCRIPTION:Register for this upcoming FREE 2-day training course Thurs. June 25th and Fri. June 26th\, 2026 from 8:30AM-1PM. \nMilitary spouses make great entrepreneurs\, and small business ownership can be a transportable vocation that supports frequent relocation-part of the landscape for many military families. The Pathway to Business course introduces military spouses to the key elements of entrepreneurship at no cost. \nIn this course\, military spouses are introduced to a broad spectrum of entrepreneurial business topics such as market research\, economics\, legal considerations\, and finances. You’ll also learn about additional resources available to military spouses for accessing startup capital\, receiving technical assistance\, earning contracting opportunities\, and more. \nREGISTER HERE
URL:https://www.mcnultycenter.org/event/military-spouse-pathway-to-business-online-new-york-ny-2/
ATTACH;FMTTYPE=image/jpeg:https://www.mcnultycenter.org/wp-content/uploads/2026/01/military-spouse.jpg
END:VEVENT
BEGIN:VEVENT
DTSTART;TZID=America/New_York:20260924T083000
DTEND;TZID=America/New_York:20260925T130000
DTSTAMP:20260421T114612
CREATED:20260120T213338Z
LAST-MODIFIED:20260120T213708Z
UID:3011-1790238600-1790341200@www.mcnultycenter.org
SUMMARY:Military Spouse Pathway to Business: Online\, New York\, NY
DESCRIPTION:Register for this upcoming FREE 2-day training course Thurs. Sept 24th and Fri. Sept 25th\, 2026 from 8:30AM-1PM. \nMilitary spouses make great entrepreneurs\, and small business ownership can be a transportable vocation that supports frequent relocation-part of the landscape for many military families. The Pathway to Business course introduces military spouses to the key elements of entrepreneurship at no cost. \nIn this course\, military spouses are introduced to a broad spectrum of entrepreneurial business topics such as market research\, economics\, legal considerations\, and finances. You’ll also learn about additional resources available to military spouses for accessing startup capital\, receiving technical assistance\, earning contracting opportunities\, and more. \nREGISTER HERE
URL:https://www.mcnultycenter.org/event/military-spouse-pathway-to-business-online-new-york-ny-3/
ATTACH;FMTTYPE=image/jpeg:https://www.mcnultycenter.org/wp-content/uploads/2026/01/military-spouse.jpg
END:VEVENT
BEGIN:VEVENT
DTSTART;TZID=America/New_York:20261119T083000
DTEND;TZID=America/New_York:20261120T130000
DTSTAMP:20260421T114612
CREATED:20260120T213603Z
LAST-MODIFIED:20260120T213603Z
UID:3013-1795077000-1795179600@www.mcnultycenter.org
SUMMARY:Military Spouse Pathway to Business: Online\, New York\, NY
DESCRIPTION:Register for this upcoming FREE 2-day training course Thurs. Nov. 19th and Fri. Nov. 20th\, 2026 from 8:30AM-1PM. \nMilitary spouses make great entrepreneurs\, and small business ownership can be a transportable vocation that supports frequent relocation-part of the landscape for many military families. The Pathway to Business course introduces military spouses to the key elements of entrepreneurship at no cost. \nIn this course\, military spouses are introduced to a broad spectrum of entrepreneurial business topics such as market research\, economics\, legal considerations\, and finances. You’ll also learn about additional resources available to military spouses for accessing startup capital\, receiving technical assistance\, earning contracting opportunities\, and more. \nREGISTER HERE
URL:https://www.mcnultycenter.org/event/military-spouse-pathway-to-business-online-new-york-ny-4/
ATTACH;FMTTYPE=image/jpeg:https://www.mcnultycenter.org/wp-content/uploads/2026/01/military-spouse.jpg
END:VEVENT
END:VCALENDAR