BEGIN:VCALENDAR
VERSION:2.0
PRODID:-//The Michael R. McNulty Veteran Business Center - ECPv6.14.2//NONSGML v1.0//EN
CALSCALE:GREGORIAN
METHOD:PUBLISH
X-WR-CALNAME:The Michael R. McNulty Veteran Business Center
X-ORIGINAL-URL:https://www.mcnultycenter.org
X-WR-CALDESC:Events for The Michael R. McNulty Veteran Business Center
REFRESH-INTERVAL;VALUE=DURATION:PT1H
X-Robots-Tag:noindex
X-PUBLISHED-TTL:PT1H
BEGIN:VTIMEZONE
TZID:America/New_York
BEGIN:DAYLIGHT
TZOFFSETFROM:-0500
TZOFFSETTO:-0400
TZNAME:EDT
DTSTART:20210314T070000
END:DAYLIGHT
BEGIN:STANDARD
TZOFFSETFROM:-0400
TZOFFSETTO:-0500
TZNAME:EST
DTSTART:20211107T060000
END:STANDARD
END:VTIMEZONE
BEGIN:VEVENT
DTSTART;TZID=America/New_York:20210928T100000
DTEND;TZID=America/New_York:20210928T110000
DTSTAMP:20260420T033335
CREATED:20210429T151308Z
LAST-MODIFIED:20210608T191011Z
UID:609-1632823200-1632826800@www.mcnultycenter.org
SUMMARY:Neuro-Marketing
DESCRIPTION:Presented By: Man-Li Lin\, Economic Development Specialist \nRegister Here
URL:https://www.mcnultycenter.org/event/neuro-marketing-3/
END:VEVENT
BEGIN:VEVENT
DTSTART;TZID=America/New_York:20210923T130000
DTEND;TZID=America/New_York:20210923T143000
DTSTAMP:20260420T033335
CREATED:20210830T185304Z
LAST-MODIFIED:20210830T185304Z
UID:1032-1632402000-1632407400@www.mcnultycenter.org
SUMMARY:Govology- How to Engage and Position During Government Prospect Meetings (2021 Update)
DESCRIPTION:Presented By: Joshua Frank\, RSM Federal \nRegister Here \nRemember to enter the code VBOCR2-2021 when you register in order to waive the registration fee!
URL:https://www.mcnultycenter.org/event/govology-how-to-engage-and-position-during-government-prospect-meetings-2021-update/
END:VEVENT
BEGIN:VEVENT
DTSTART;TZID=America/New_York:20210923T100000
DTEND;TZID=America/New_York:20210923T110000
DTSTAMP:20260420T033335
CREATED:20210429T151155Z
LAST-MODIFIED:20210608T191029Z
UID:603-1632391200-1632394800@www.mcnultycenter.org
SUMMARY:How To Write Your Capabilities Statement & Define Your Government Target Market
DESCRIPTION:Presented By: Lauren Linakis\, Certified Business Advisor SBDC \nRegister Here
URL:https://www.mcnultycenter.org/event/how-to-write-your-capabilities-statement-define-your-government-target-market-3/
END:VEVENT
BEGIN:VEVENT
DTSTART;TZID=America/New_York:20210923T083000
DTEND;TZID=America/New_York:20210924T083000
DTSTAMP:20260420T033335
CREATED:20210429T151220Z
LAST-MODIFIED:20210610T201524Z
UID:605-1632385800-1632472200@www.mcnultycenter.org
SUMMARY:B2B PR
DESCRIPTION:B2B PR\n8:30am – 12:30pm EST Each Day \nRegister Here
URL:https://www.mcnultycenter.org/event/b2b-pr-3/
END:VEVENT
BEGIN:VEVENT
DTSTART;TZID=America/New_York:20210922T140000
DTEND;TZID=America/New_York:20210922T150000
DTSTAMP:20260420T033335
CREATED:20210825T125836Z
LAST-MODIFIED:20210825T130816Z
UID:985-1632319200-1632322800@www.mcnultycenter.org
SUMMARY:Capital Continuum Part Three: 504 Loan Program The best economic development financing program for fixed assets
DESCRIPTION:Presented by: Ross Pancoe\, is Senior Vice President at Pursuit \nRegister Here
URL:https://www.mcnultycenter.org/event/504-loan-program-the-best-economic-development-financing-program-for-fixed-assets/
END:VEVENT
BEGIN:VEVENT
DTSTART;TZID=America/New_York:20210922T100000
DTEND;TZID=America/New_York:20210922T110000
DTSTAMP:20260420T033335
CREATED:20210429T151124Z
LAST-MODIFIED:20210608T191045Z
UID:601-1632304800-1632308400@www.mcnultycenter.org
SUMMARY:SBIR/STTR Program
DESCRIPTION:Presented By: Man-Li Lin\, Economic Development Specialist \nRegister Here
URL:https://www.mcnultycenter.org/event/sbir-sttr-program-2/
END:VEVENT
BEGIN:VEVENT
DTSTART;TZID=America/New_York:20210921T130000
DTEND;TZID=America/New_York:20210921T143000
DTSTAMP:20260420T033335
CREATED:20210830T185046Z
LAST-MODIFIED:20210830T185046Z
UID:1030-1632229200-1632234600@www.mcnultycenter.org
SUMMARY:Govology- Want to Access the Billions of Dollars within the Department of Energy? Here’s How!
DESCRIPTION:Presented By: Lani MacRae\, Department of Energy\, and Rexann Dunn\, National Renewable Energy Laboratory. \nRegister Here \nRemember to enter the code VBOCR2-2021 when you register in order to waive the registration fee!
URL:https://www.mcnultycenter.org/event/govology-want-to-access-the-billions-of-dollars-within-the-department-of-energy-heres-how/
END:VEVENT
BEGIN:VEVENT
DTSTART;TZID=America/New_York:20210921T100000
DTEND;TZID=America/New_York:20210921T110000
DTSTAMP:20260420T033335
CREATED:20210429T151058Z
LAST-MODIFIED:20210608T191104Z
UID:599-1632218400-1632222000@www.mcnultycenter.org
SUMMARY:Government Contracting for VOSB NJ
DESCRIPTION:Presented By: John Blackstock\, Deputy District Director with the U.S. SBA New Jersey District Office \nRegister Here
URL:https://www.mcnultycenter.org/event/government-contracting-for-vosb-nj/
END:VEVENT
BEGIN:VEVENT
DTSTART;TZID=America/New_York:20210916T130000
DTEND;TZID=America/New_York:20210916T143000
DTSTAMP:20260420T033335
CREATED:20210830T184205Z
LAST-MODIFIED:20210830T184844Z
UID:1024-1631797200-1631802600@www.mcnultycenter.org
SUMMARY:Govology- Teaming\, Joint Ventures\, and Mentor-Protégé Relationships on Set-Aside Federal Contracts (Update 2021)
DESCRIPTION:Presented By: Maria Panichelli\, Obermayer Rebmann Maxwell & Hippel LLP \nRegister Here \nRemember to enter the code VBOCR2-2021 when you register in order to waive the registration fee!
URL:https://www.mcnultycenter.org/event/govology-preparing-for-growth-of-your-govcon-business-preparing-for-growth-of-your-govcon-business/
END:VEVENT
BEGIN:VEVENT
DTSTART;TZID=America/New_York:20210916T083000
DTEND;TZID=America/New_York:20210917T083000
DTSTAMP:20260420T033335
CREATED:20210429T151001Z
LAST-MODIFIED:20210610T201550Z
UID:595-1631781000-1631867400@www.mcnultycenter.org
SUMMARY:B2BR NYC
DESCRIPTION:B2BR NYC\n8:30am – 12:30pm EST Each Day \nRegister Here
URL:https://www.mcnultycenter.org/event/b2br-nyc-7/
END:VEVENT
BEGIN:VEVENT
DTSTART;TZID=America/New_York:20210915T140000
DTEND;TZID=America/New_York:20210915T150000
DTSTAMP:20260420T033335
CREATED:20210825T125616Z
LAST-MODIFIED:20210825T130846Z
UID:983-1631714400-1631718000@www.mcnultycenter.org
SUMMARY:Capital Continuum Part Two: SBA 7(a) Loans
DESCRIPTION:Presented by: Dustin Krause\, Senior Relationship Manager\, Vice President\, Pursuit \nRegister Here
URL:https://www.mcnultycenter.org/event/sba-7a-loans/
END:VEVENT
BEGIN:VEVENT
DTSTART;TZID=America/New_York:20210915T100000
DTEND;TZID=America/New_York:20210915T110000
DTSTAMP:20260420T033335
CREATED:20210429T150928Z
LAST-MODIFIED:20210608T191121Z
UID:593-1631700000-1631703600@www.mcnultycenter.org
SUMMARY:How To Register at SAM.GOV
DESCRIPTION:Presented By: Lauren Linakis\, Certified Business Advisor SBDC \nRegister Here
URL:https://www.mcnultycenter.org/event/how-to-register-at-sam-gov-2/
END:VEVENT
BEGIN:VEVENT
DTSTART;TZID=America/New_York:20210914T130000
DTEND;TZID=America/New_York:20210914T143000
DTSTAMP:20260420T033335
CREATED:20210830T184439Z
LAST-MODIFIED:20210830T184439Z
UID:1026-1631624400-1631629800@www.mcnultycenter.org
SUMMARY:Govology- Preparing for Growth of Your GovCon Business
DESCRIPTION:Presented By: Robert Jones\, Left Brain Professionals. \nRegister Here \nRemember to enter the code VBOCR2-2021 when you register in order to waive the registration fee!
URL:https://www.mcnultycenter.org/event/govology-preparing-for-growth-of-your-govcon-business/
END:VEVENT
BEGIN:VEVENT
DTSTART;TZID=America/New_York:20210914T100000
DTEND;TZID=America/New_York:20210914T110000
DTSTAMP:20260420T033335
CREATED:20210429T150854Z
LAST-MODIFIED:20210901T142748Z
UID:591-1631613600-1631617200@www.mcnultycenter.org
SUMMARY:Cybersecurity Awareness Training 101
DESCRIPTION:Presented By: Grey Castle Security \nRegister Here
URL:https://www.mcnultycenter.org/event/cyber-security/
END:VEVENT
BEGIN:VEVENT
DTSTART;TZID=America/New_York:20210909T090000
DTEND;TZID=America/New_York:20210909T100000
DTSTAMP:20260420T033335
CREATED:20210429T150816Z
LAST-MODIFIED:20210608T191153Z
UID:589-1631178000-1631181600@www.mcnultycenter.org
SUMMARY:Access To Capital NJ
DESCRIPTION:Presented By: John Blackstock\, Deputy District Director with the U.S. SBA New Jersey District Office \nRegister Here
URL:https://www.mcnultycenter.org/event/access-to-capital-nj/
END:VEVENT
BEGIN:VEVENT
DTSTART;TZID=America/New_York:20210908T140000
DTEND;TZID=America/New_York:20210908T150000
DTSTAMP:20260420T033335
CREATED:20210825T125405Z
LAST-MODIFIED:20210825T131000Z
UID:981-1631109600-1631113200@www.mcnultycenter.org
SUMMARY:Capital Continuum Part One: What is a CDFI and Why/When you should work with them?
DESCRIPTION:Presented by: Wes Slyke\, Senior Business Development Officer\, Pursuit \nRegister Here
URL:https://www.mcnultycenter.org/event/what-is-a-cdfi-and-why-when-you-should-work-with-them/
END:VEVENT
BEGIN:VEVENT
DTSTART;TZID=America/New_York:20210908T130000
DTEND;TZID=America/New_York:20210908T143000
DTSTAMP:20260420T033335
CREATED:20210830T183911Z
LAST-MODIFIED:20210830T183911Z
UID:1022-1631106000-1631111400@www.mcnultycenter.org
SUMMARY:Govology- GSA Schedule Rescue Camp: Steps You Need To Take NOW
DESCRIPTION:Presdented by: Judy Bradt\, Summit Insight. \nRegister Here \nRemember to enter the code VBOCR2-2021 when you register in order to waive the registration fee!
URL:https://www.mcnultycenter.org/event/govology-gsa-schedule-rescue-camp-steps-you-need-to-take-now/
END:VEVENT
BEGIN:VEVENT
DTSTART;TZID=America/New_York:20210831T130000
DTEND;TZID=America/New_York:20210831T143000
DTSTAMP:20260420T033335
CREATED:20210715T150223Z
LAST-MODIFIED:20210715T150223Z
UID:958-1630414800-1630420200@www.mcnultycenter.org
SUMMARY:Govology - The Freedom of Information Act – What It Is and Why It Matters in Small Business Government Contracting
DESCRIPTION:Presented by: Matthew Moriarty\, Schoonover & Moriarty \nRegister Here \nRemember to enter the code VBOCR2-2021 when you register in order to waive the registration fee!
URL:https://www.mcnultycenter.org/event/govology-the-freedom-of-information-act-what-it-is-and-why-it-matters-in-small-business-government-contracting/
END:VEVENT
BEGIN:VEVENT
DTSTART;TZID=America/New_York:20210831T090000
DTEND;TZID=America/New_York:20210831T170000
DTSTAMP:20260420T033335
CREATED:20210428T185339Z
LAST-MODIFIED:20210428T185339Z
UID:587-1630400400-1630429200@www.mcnultycenter.org
SUMMARY:Quarterly Legal Clinic – 1-on-1 25 Minute Private Consults
DESCRIPTION:Quarterly Legal Clinic – 1-on-1 25 Minute Private Consults\n9am-5pm EST with Participating Local Attorneys\nBy Appointment Only.\nTo Schedule Email Jennifer at JBeston@mcnultycenter.org
URL:https://www.mcnultycenter.org/event/quarterly-legal-clinic-1-on-1-25-minute-private-consults/
END:VEVENT
BEGIN:VEVENT
DTSTART;TZID=America/New_York:20210826T130000
DTEND;TZID=America/New_York:20210826T140000
DTSTAMP:20260420T033335
CREATED:20210428T185314Z
LAST-MODIFIED:20210608T191224Z
UID:585-1629982800-1629986400@www.mcnultycenter.org
SUMMARY:Access To Capital (7a)
DESCRIPTION:Presented By: TBA \nRegister Here
URL:https://www.mcnultycenter.org/event/access-to-capital-7a-2/
END:VEVENT
BEGIN:VEVENT
DTSTART;TZID=America/New_York:20210826T100000
DTEND;TZID=America/New_York:20210826T110000
DTSTAMP:20260420T033335
CREATED:20210428T185156Z
LAST-MODIFIED:20210608T191249Z
UID:579-1629972000-1629975600@www.mcnultycenter.org
SUMMARY:Federal Government Resources For Exporters
DESCRIPTION:Presented By: U.S. Export Assistance Center New York\, EXIM & SBA \nRegister Here
URL:https://www.mcnultycenter.org/event/federal-government-resources-for-exporters-2/
END:VEVENT
BEGIN:VEVENT
DTSTART;TZID=America/New_York:20210826T083000
DTEND;TZID=America/New_York:20210827T083000
DTSTAMP:20260420T033335
CREATED:20210428T185220Z
LAST-MODIFIED:20210610T201625Z
UID:581-1629966600-1630053000@www.mcnultycenter.org
SUMMARY:B2BR PR (Taught In Spanish)
DESCRIPTION:B2BR PR (Taught In Spanish)\n8:30am – 12:30pm EST Each Day \nRegister Here
URL:https://www.mcnultycenter.org/event/b2br-pr-taught-in-spanish-3/
END:VEVENT
BEGIN:VEVENT
DTSTART;TZID=America/New_York:20210825T100000
DTEND;TZID=America/New_York:20210825T110000
DTSTAMP:20260420T033335
CREATED:20210428T185130Z
LAST-MODIFIED:20210608T191308Z
UID:577-1629885600-1629889200@www.mcnultycenter.org
SUMMARY:Access To Capital Microloans and C/A
DESCRIPTION:Presented By: TBA \nRegister Here
URL:https://www.mcnultycenter.org/event/access-to-capital-microloans-and-c-a-2/
END:VEVENT
BEGIN:VEVENT
DTSTART;TZID=America/New_York:20210824T130000
DTEND;TZID=America/New_York:20210824T143000
DTSTAMP:20260420T033335
CREATED:20210715T144714Z
LAST-MODIFIED:20210715T145402Z
UID:956-1629810000-1629815400@www.mcnultycenter.org
SUMMARY:Govology - What Your Contracting Officer Wants In Q4 (And How To Give It To Them)
DESCRIPTION:Presented by: Judy Bradt\, Summit Insight \nRegister Here \nRemember to enter the code VBOCR2-2021 when you register in order to waive the registration fee!
URL:https://www.mcnultycenter.org/event/govology-what-your-contracting-officer-wants-in-q4-and-how-to-give-it-to-them/
END:VEVENT
BEGIN:VEVENT
DTSTART;TZID=America/New_York:20210824T100000
DTEND;TZID=America/New_York:20210824T110000
DTSTAMP:20260420T033335
CREATED:20210428T185100Z
LAST-MODIFIED:20210608T191323Z
UID:575-1629799200-1629802800@www.mcnultycenter.org
SUMMARY:Access To Capital 504 Loan Program
DESCRIPTION:Presented By: TBA \nRegister
URL:https://www.mcnultycenter.org/event/access-to-capital-504-loan-program-2/
END:VEVENT
BEGIN:VEVENT
DTSTART;TZID=America/New_York:20210819T130000
DTEND;TZID=America/New_York:20210819T143000
DTSTAMP:20260420T033335
CREATED:20210715T144510Z
LAST-MODIFIED:20210715T144510Z
UID:954-1629378000-1629383400@www.mcnultycenter.org
SUMMARY:Govology - Convincing a Prime to Put You on Their Team (2021 Update)
DESCRIPTION:Presented by: Joshua Frank\, RSM Federal \nRegister Here \nRemember to enter the code VBOCR2-2021 when you register in order to waive the registration fee
URL:https://www.mcnultycenter.org/event/govology-convincing-a-prime-to-put-you-on-their-team-2021-update/
END:VEVENT
BEGIN:VEVENT
DTSTART;TZID=America/New_York:20210819T100000
DTEND;TZID=America/New_York:20210819T120000
DTSTAMP:20260420T033335
CREATED:20210428T185030Z
LAST-MODIFIED:20210608T191339Z
UID:573-1629367200-1629374400@www.mcnultycenter.org
SUMMARY:GSA Webinar
DESCRIPTION:Presented By: Janice Bracey\, Small Business Specialist GSA Region 2 \nRegister Here
URL:https://www.mcnultycenter.org/event/gsa-webinar-2/
END:VEVENT
BEGIN:VEVENT
DTSTART;TZID=America/New_York:20210817T130000
DTEND;TZID=America/New_York:20210817T143000
DTSTAMP:20260420T033335
CREATED:20210715T143951Z
LAST-MODIFIED:20210715T143951Z
UID:952-1629205200-1629210600@www.mcnultycenter.org
SUMMARY:Govology - Your Company’s Capability Statement – Be Ready to Shine!
DESCRIPTION:Presented by: – Lani MacRae\, U.S. Department of Energy \nRegistered Here \nRemember to enter the code VBOCR2-2021 when you register in order to waive the registration fee!
URL:https://www.mcnultycenter.org/event/govology-your-companys-capability-statement-be-ready-to-shine/
END:VEVENT
BEGIN:VEVENT
DTSTART;TZID=America/New_York:20210817T100000
DTEND;TZID=America/New_York:20210817T110000
DTSTAMP:20260420T033335
CREATED:20210804T144912Z
LAST-MODIFIED:20210804T144912Z
UID:967-1629194400-1629198000@www.mcnultycenter.org
SUMMARY:The U.S. Small Business Administration will launch the Paycheck Protection Program forgiveness application portal
DESCRIPTION:Join us to learn more about this intuitive platform that will allow you to apply for forgiveness at your convenience\, take advantage of the pre-population of loan information into the forgiveness’ application\, and track progress and approval status. \nRegister Here
URL:https://www.mcnultycenter.org/event/the-u-s-small-business-administration-will-launch-the-paycheck-protection-program-forgiveness-application-portal-3/
END:VEVENT
BEGIN:VEVENT
DTSTART;TZID=America/New_York:20210812T130000
DTEND;TZID=America/New_York:20210812T143000
DTSTAMP:20260420T033335
CREATED:20210715T143748Z
LAST-MODIFIED:20210715T143748Z
UID:950-1628773200-1628778600@www.mcnultycenter.org
SUMMARY:Govology - Top 21 Legal Mistakes in Government Contracting
DESCRIPTION:Presented by: Steven Koprince and Nicole Pottroff\, Koprince Law \nRegistered Here \nRemember to enter the code VBOCR2-2021 when you register in order to waive the registration fee!
URL:https://www.mcnultycenter.org/event/govology-top-21-legal-mistakes-in-government-contracting/
END:VEVENT
END:VCALENDAR