BEGIN:VCALENDAR
VERSION:2.0
PRODID:-//The Michael R. McNulty Veteran Business Center - ECPv6.14.2//NONSGML v1.0//EN
CALSCALE:GREGORIAN
METHOD:PUBLISH
X-WR-CALNAME:The Michael R. McNulty Veteran Business Center
X-ORIGINAL-URL:https://www.mcnultycenter.org
X-WR-CALDESC:Events for The Michael R. McNulty Veteran Business Center
REFRESH-INTERVAL;VALUE=DURATION:PT1H
X-Robots-Tag:noindex
X-PUBLISHED-TTL:PT1H
BEGIN:VTIMEZONE
TZID:America/New_York
BEGIN:DAYLIGHT
TZOFFSETFROM:-0500
TZOFFSETTO:-0400
TZNAME:EDT
DTSTART:20250309T070000
END:DAYLIGHT
BEGIN:STANDARD
TZOFFSETFROM:-0400
TZOFFSETTO:-0500
TZNAME:EST
DTSTART:20251102T060000
END:STANDARD
END:VTIMEZONE
BEGIN:VEVENT
DTSTART;TZID=America/New_York:20251118T130000
DTEND;TZID=America/New_York:20251118T143000
DTSTAMP:20260419T112704
CREATED:20251030T192634Z
LAST-MODIFIED:20251030T192634Z
UID:2916-1763470800-1763476200@www.mcnultycenter.org
SUMMARY:GOVOLOGY: How to Modify Your GSA Schedule Contract
DESCRIPTION:Enter the code: 52VBOCR20 when you register! \nKeeping your GSA Schedule contract accurate and compliant is essential to maintaining opportunities and avoiding costly rejections. This practical training provides a step-by-step walkthrough of the GSA Schedule modification process\, using the latest requirements and systems. Attendees will gain clarity on different modification types\, required documentation\, and strategies for efficient and successful submissions. \nREGISTER HERE
URL:https://www.mcnultycenter.org/event/govology-how-to-modify-your-gsa-schedule-contract/
ATTACH;FMTTYPE=image/jpeg:https://www.mcnultycenter.org/wp-content/uploads/2025/10/How.jpg
END:VEVENT
END:VCALENDAR