BEGIN:VCALENDAR
VERSION:2.0
PRODID:-//The Michael R. McNulty Veteran Business Center - ECPv6.14.2//NONSGML v1.0//EN
CALSCALE:GREGORIAN
METHOD:PUBLISH
X-ORIGINAL-URL:https://www.mcnultycenter.org
X-WR-CALDESC:Events for The Michael R. McNulty Veteran Business Center
REFRESH-INTERVAL;VALUE=DURATION:PT1H
X-Robots-Tag:noindex
X-PUBLISHED-TTL:PT1H
BEGIN:VTIMEZONE
TZID:America/New_York
BEGIN:DAYLIGHT
TZOFFSETFROM:-0500
TZOFFSETTO:-0400
TZNAME:EDT
DTSTART:20250309T070000
END:DAYLIGHT
BEGIN:STANDARD
TZOFFSETFROM:-0400
TZOFFSETTO:-0500
TZNAME:EST
DTSTART:20251102T060000
END:STANDARD
END:VTIMEZONE
BEGIN:VEVENT
DTSTART;TZID=America/New_York:20251112T100000
DTEND;TZID=America/New_York:20251112T110000
DTSTAMP:20260419T211619
CREATED:20250811T154425Z
LAST-MODIFIED:20250811T154425Z
UID:2787-1762941600-1762945200@www.mcnultycenter.org
SUMMARY:Morning Coffee with Amy
DESCRIPTION:Join us\, Wednesday\, November 12th\, from 10-11AM ET for this free hour-long session and bring all your small business questions. These questions can include but not limited to\, government contracting\, certifications\, access to capital\, grants\, how to start or expand your small business\, when to utilize professional services\, marketing\, economics\, resources for veteran owned business\, or international trade. There is no limit to the number of questions that you can ask or the topic you wish to discuss. \nThis virtual forum will allow you to ask any small business question that may have been plaguing you or keeping you from taking those next steps on your business growth. Amy Amoroso\, one of the nations’ leading experts in entrepreneurship\, will answer your questions and give you the advice/next steps that you are requesting on your journey of business success. \nREGISTER HERE
URL:https://www.mcnultycenter.org/event/morning-coffee-with-amy-8/
ATTACH;FMTTYPE=image/png:https://www.mcnultycenter.org/wp-content/uploads/2025/08/Coffee-w-Amy-11-12-25.png
END:VEVENT
END:VCALENDAR