BEGIN:VCALENDAR
VERSION:2.0
PRODID:-//The Michael R. McNulty Veteran Business Center - ECPv6.14.2//NONSGML v1.0//EN
CALSCALE:GREGORIAN
METHOD:PUBLISH
X-WR-CALNAME:The Michael R. McNulty Veteran Business Center
X-ORIGINAL-URL:https://www.mcnultycenter.org
X-WR-CALDESC:Events for The Michael R. McNulty Veteran Business Center
REFRESH-INTERVAL;VALUE=DURATION:PT1H
X-Robots-Tag:noindex
X-PUBLISHED-TTL:PT1H
BEGIN:VTIMEZONE
TZID:America/New_York
BEGIN:DAYLIGHT
TZOFFSETFROM:-0500
TZOFFSETTO:-0400
TZNAME:EDT
DTSTART:20250309T070000
END:DAYLIGHT
BEGIN:STANDARD
TZOFFSETFROM:-0400
TZOFFSETTO:-0500
TZNAME:EST
DTSTART:20251102T060000
END:STANDARD
END:VTIMEZONE
BEGIN:VEVENT
DTSTART;TZID=America/New_York:20251106T100000
DTEND;TZID=America/New_York:20251106T110000
DTSTAMP:20260420T072731
CREATED:20251011T185518Z
LAST-MODIFIED:20251011T185518Z
UID:2871-1762423200-1762426800@www.mcnultycenter.org
SUMMARY:Engage & Convert: The Email & Social Media Power Play
DESCRIPTION:Join Erik Bunaes from Endorphin Digital Marketing as he talks about the combined power of email and social media to captivate your audience\, grow your subscriber base\, and drive meaningful conversions. Learn best practices for posting frequency\, timing\, and creating social hooks that stop the scroll. \nPlus\, he’ll uncover the top reasons people subscribe—discounts\, exclusive content\, or supporting your cause! Whether you’re looking to boost engagement or grow your list\, this session provides the tools and insights to power up your email and social media marketing strategy. \nREGISTER HERE
URL:https://www.mcnultycenter.org/event/engage-convert-the-email-social-media-power-play/
ATTACH;FMTTYPE=image/png:https://www.mcnultycenter.org/wp-content/uploads/2025/10/Engage-Convert-11-6-25.png
END:VEVENT
BEGIN:VEVENT
DTSTART;TZID=America/New_York:20251106T170000
DTEND;TZID=America/New_York:20251106T193000
DTSTAMP:20260420T072731
CREATED:20250728T182135Z
LAST-MODIFIED:20251021T162504Z
UID:2740-1762448400-1762457400@www.mcnultycenter.org
SUMMARY:2025 McNulty Center Annual Award Celebration
DESCRIPTION:Join us Thursday\, November 6\, 2025 from 5-7:30PM for the Annual McNulty Veteran Business Center’s Award Celebration. We are excited to recognize leaders in our community and present entrepreneurial awards to Veteran business owners we serve. Reception includes open wine\, beer and soda\, (cash liquor) hors d’oeuvres and carving station. There are a limited number of tickets for available\, so purchase yours today! 20% ticket discount for Veterans. A variety of sponsorship opportunities are available to support this event. \nTo pay by cash or check please paste the link into your browser to print: https://bit.ly/4mcLuSX \nCLICK HERE TO SPONSOR OR PURCHASE TICKETS
URL:https://www.mcnultycenter.org/event/mcnulty-center-annual-award-celebration/
ATTACH;FMTTYPE=image/png:https://www.mcnultycenter.org/wp-content/uploads/2025/07/Social-Tile-Awards-2025.png
END:VEVENT
END:VCALENDAR