BEGIN:VCALENDAR
VERSION:2.0
PRODID:-//The Michael R. McNulty Veteran Business Center - ECPv6.14.2//NONSGML v1.0//EN
CALSCALE:GREGORIAN
METHOD:PUBLISH
X-WR-CALNAME:The Michael R. McNulty Veteran Business Center
X-ORIGINAL-URL:https://www.mcnultycenter.org
X-WR-CALDESC:Events for The Michael R. McNulty Veteran Business Center
REFRESH-INTERVAL;VALUE=DURATION:PT1H
X-Robots-Tag:noindex
X-PUBLISHED-TTL:PT1H
BEGIN:VTIMEZONE
TZID:America/New_York
BEGIN:DAYLIGHT
TZOFFSETFROM:-0500
TZOFFSETTO:-0400
TZNAME:EDT
DTSTART:20250309T070000
END:DAYLIGHT
BEGIN:STANDARD
TZOFFSETFROM:-0400
TZOFFSETTO:-0500
TZNAME:EST
DTSTART:20251102T060000
END:STANDARD
END:VTIMEZONE
BEGIN:VEVENT
DTSTART;TZID=America/New_York:20251030T130000
DTEND;TZID=America/New_York:20251030T140000
DTSTAMP:20260420T191440
CREATED:20251021T162302Z
LAST-MODIFIED:20251021T162302Z
UID:2879-1761829200-1761832800@www.mcnultycenter.org
SUMMARY:USPTO Intellectual Property Fundamentals
DESCRIPTION:Unfamiliar with patents\, trademarks\, copyrights\, and trade secrets? Learn about intellectual property (IP) basics and potential ways to protect your innovations as you transition from idea to product. \nThe session will cover: \n• What is the USPTO? \n• An overview of intellectual property types: patents\, trademarks\, copyrights\, and trade secrets \n• Why innovators and entrepreneurs should consider protecting their IP. \n• How to get started in protecting your intellectual property \nREGISTER HERE
URL:https://www.mcnultycenter.org/event/uspto-intellectual-property-fundamentals/
ATTACH;FMTTYPE=image/png:https://www.mcnultycenter.org/wp-content/uploads/2025/10/IP-Fundamentals-10-30-25.png
END:VEVENT
END:VCALENDAR