BEGIN:VCALENDAR
VERSION:2.0
PRODID:-//The Michael R. McNulty Veteran Business Center - ECPv6.14.2//NONSGML v1.0//EN
CALSCALE:GREGORIAN
METHOD:PUBLISH
X-ORIGINAL-URL:https://www.mcnultycenter.org
X-WR-CALDESC:Events for The Michael R. McNulty Veteran Business Center
REFRESH-INTERVAL;VALUE=DURATION:PT1H
X-Robots-Tag:noindex
X-PUBLISHED-TTL:PT1H
BEGIN:VTIMEZONE
TZID:America/New_York
BEGIN:DAYLIGHT
TZOFFSETFROM:-0500
TZOFFSETTO:-0400
TZNAME:EDT
DTSTART:20250309T070000
END:DAYLIGHT
BEGIN:STANDARD
TZOFFSETFROM:-0400
TZOFFSETTO:-0500
TZNAME:EST
DTSTART:20251102T060000
END:STANDARD
END:VTIMEZONE
BEGIN:VEVENT
DTSTART;TZID=America/New_York:20251001T080000
DTEND;TZID=America/New_York:20251001T093000
DTSTAMP:20260420T205415
CREATED:20250916T151206Z
LAST-MODIFIED:20250916T151745Z
UID:2828-1759305600-1759311000@www.mcnultycenter.org
SUMMARY:Empowering Veteran Business Success Networking Breakfast
DESCRIPTION:Enjoy FREE breakfast and networking with fellow Veteran entrepreneurs! Connect with business resources and hear featured speaker Erik Bunaes present on “Introduction to AI in Marketing.” \nThis informative session will explore how AI can transform your marketing—helping you streamline efforts\, engage customers\, and drive growth. \n\nEnhance Branding: Keep your brand consistent with easy-to-use AI tools.\nSimplify Content Creation: Create compelling communications faster.\nOptimize Campaigns: Deliver personalized\, localized messages at scale.\nStreamline Management: Organize and oversee efforts efficiently.\nGain Insights: Access clear reports to guide smarter decisions.\n\nREGISTER HERE \nLocation: Tully Rinckey PLLC\, 1203 Troy-Schenectady Rd\, Suite 101\, Latham\, NY 12110 \nDate and time: Wed\, Oct 1\, 2025 8:00 AM – 9:30 AM \nFunded By: John. C Dunphy Private Foundation Inc. 
URL:https://www.mcnultycenter.org/event/empowering-veteran-business-success-networking-breakfast/
ATTACH;FMTTYPE=image/png:https://www.mcnultycenter.org/wp-content/uploads/2025/09/10-1-15-Social-Tile.png
END:VEVENT
END:VCALENDAR