BEGIN:VCALENDAR
VERSION:2.0
PRODID:-//The Michael R. McNulty Veteran Business Center - ECPv6.14.2//NONSGML v1.0//EN
CALSCALE:GREGORIAN
METHOD:PUBLISH
X-WR-CALNAME:The Michael R. McNulty Veteran Business Center
X-ORIGINAL-URL:https://www.mcnultycenter.org
X-WR-CALDESC:Events for The Michael R. McNulty Veteran Business Center
REFRESH-INTERVAL;VALUE=DURATION:PT1H
X-Robots-Tag:noindex
X-PUBLISHED-TTL:PT1H
BEGIN:VTIMEZONE
TZID:America/New_York
BEGIN:DAYLIGHT
TZOFFSETFROM:-0500
TZOFFSETTO:-0400
TZNAME:EDT
DTSTART:20250309T070000
END:DAYLIGHT
BEGIN:STANDARD
TZOFFSETFROM:-0400
TZOFFSETTO:-0500
TZNAME:EST
DTSTART:20251102T060000
END:STANDARD
END:VTIMEZONE
BEGIN:VEVENT
DTSTART;TZID=America/New_York:20250916T130000
DTEND;TZID=America/New_York:20250918T143000
DTSTAMP:20260420T230526
CREATED:20250825T172329Z
LAST-MODIFIED:20250825T172329Z
UID:2820-1758027600-1758205800@www.mcnultycenter.org
SUMMARY:GOVOLOGY: Winning Proposals: Your Comprehensive Guide to Responding to Federal RFPs (3-Part Series)
DESCRIPTION:Enter the code: 52VBOCR20 when you register! \nA 3-Part Series on Building Proposals That Are 100% Compliant and Score the Highest—Because That’s What It Takes to Win. \nWinning federal proposals takes more than effort—it requires structure\, strategy\, a focus on the highest-scoring content\, and airtight compliance\, all delivered through an integrated system that produces results. \nIn this 3-part training presented by BID DESIGNS\, you’ll gain the foundational building blocks to transform your proposal shop from a “Get-It-Done” group into a true Win Team. You’ll learn how to focus your team’s energy on the right activities\, align every section with evaluator scoring\, and implement repeatable systems that scale. \nREGISTER HERE
URL:https://www.mcnultycenter.org/event/govology-winning-proposals-your-comprehensive-guide-to-responding-to-federal-rfps-3-part-series-2/
ATTACH;FMTTYPE=image/png:https://www.mcnultycenter.org/wp-content/uploads/2025/08/Winning-Proposals_-Your-Comprehensive-Guide-To-Responding-to-Federal-RFPs-1.png
END:VEVENT
END:VCALENDAR