BEGIN:VCALENDAR
VERSION:2.0
PRODID:-//The Michael R. McNulty Veteran Business Center - ECPv6.14.2//NONSGML v1.0//EN
CALSCALE:GREGORIAN
METHOD:PUBLISH
X-WR-CALNAME:The Michael R. McNulty Veteran Business Center
X-ORIGINAL-URL:https://www.mcnultycenter.org
X-WR-CALDESC:Events for The Michael R. McNulty Veteran Business Center
REFRESH-INTERVAL;VALUE=DURATION:PT1H
X-Robots-Tag:noindex
X-PUBLISHED-TTL:PT1H
BEGIN:VTIMEZONE
TZID:America/New_York
BEGIN:DAYLIGHT
TZOFFSETFROM:-0500
TZOFFSETTO:-0400
TZNAME:EDT
DTSTART:20250309T070000
END:DAYLIGHT
BEGIN:STANDARD
TZOFFSETFROM:-0400
TZOFFSETTO:-0500
TZNAME:EST
DTSTART:20251102T060000
END:STANDARD
END:VTIMEZONE
BEGIN:VEVENT
DTSTART;TZID=America/New_York:20250819T130000
DTEND;TZID=America/New_York:20250819T143000
DTSTAMP:20260421T010629
CREATED:20250730T144607Z
LAST-MODIFIED:20250730T144607Z
UID:2776-1755608400-1755613800@www.mcnultycenter.org
SUMMARY:GOVOLOGY: Advanced Teaming Strategies to Accelerate Small Business Government Revenue
DESCRIPTION:Enter the code: 52VBOCR20 when you register! \nEffective teaming strategies can be a game-changer for your business\, offering tactical and strategic benefits. They allow you to showcase your company’s unique strengths and seamlessly integrate them into new markets or territories through partnerships with other companies. \nIn this comprehensive webinar\, we will delve into advanced teaming strategies that can significantly accelerate your revenue growth in the government marketplace\, potentially shaving off three to five years of the usual grind. You will gain access to a wealth of real-world techniques\, ranging from the fundamentals to more complex strategies\, aimed at helping you differentiate your business and gain a competitive edge when collaborating with companies of all sizes. \nREGISTER HERE
URL:https://www.mcnultycenter.org/event/govology-advanced-teaming-strategies-to-accelerate-small-business-government-revenue/
ATTACH;FMTTYPE=image/png:https://www.mcnultycenter.org/wp-content/uploads/2025/07/Advanced-Teaming-Strategies-to-Accelerate-Small-Business-Government-Revenue.png
END:VEVENT
END:VCALENDAR