BEGIN:VCALENDAR
VERSION:2.0
PRODID:-//The Michael R. McNulty Veteran Business Center - ECPv6.14.2//NONSGML v1.0//EN
CALSCALE:GREGORIAN
METHOD:PUBLISH
X-WR-CALNAME:The Michael R. McNulty Veteran Business Center
X-ORIGINAL-URL:https://www.mcnultycenter.org
X-WR-CALDESC:Events for The Michael R. McNulty Veteran Business Center
REFRESH-INTERVAL;VALUE=DURATION:PT1H
X-Robots-Tag:noindex
X-PUBLISHED-TTL:PT1H
BEGIN:VTIMEZONE
TZID:America/New_York
BEGIN:DAYLIGHT
TZOFFSETFROM:-0500
TZOFFSETTO:-0400
TZNAME:EDT
DTSTART:20250309T070000
END:DAYLIGHT
BEGIN:STANDARD
TZOFFSETFROM:-0400
TZOFFSETTO:-0500
TZNAME:EST
DTSTART:20251102T060000
END:STANDARD
END:VTIMEZONE
BEGIN:VEVENT
DTSTART;TZID=America/New_York:20250805T130000
DTEND;TZID=America/New_York:20250805T143000
DTSTAMP:20260421T010629
CREATED:20250730T135718Z
LAST-MODIFIED:20250730T141429Z
UID:2761-1754398800-1754404200@www.mcnultycenter.org
SUMMARY:GOVOLOGY: Step-by-Step GSA
DESCRIPTION:Enter the code: 52VBOCR20 when you register! \nThe GSA MAS Schedule application process can be complex\, especially for businesses navigating it for the first time. This introductory webinar provides a clear\, step-by-step overview of what’s involved in preparing and submitting a successful GSA Schedule offer. \nThis session is ideal for companies that have already decided to pursue a GSA Schedule—or are close to making that decision—and want to better understand the level of effort required before committing resources. It’s also a preview of a more detailed training cohort that will walk participants through each stage of the process with hands-on guidance. \nREGISTER HERE
URL:https://www.mcnultycenter.org/event/govology-step-by-step-gsa/
ATTACH;FMTTYPE=image/png:https://www.mcnultycenter.org/wp-content/uploads/2025/07/Step-by-Step-GSA-1.png
END:VEVENT
END:VCALENDAR