BEGIN:VCALENDAR
VERSION:2.0
PRODID:-//The Michael R. McNulty Veteran Business Center - ECPv6.14.2//NONSGML v1.0//EN
CALSCALE:GREGORIAN
METHOD:PUBLISH
X-WR-CALNAME:The Michael R. McNulty Veteran Business Center
X-ORIGINAL-URL:https://www.mcnultycenter.org
X-WR-CALDESC:Events for The Michael R. McNulty Veteran Business Center
REFRESH-INTERVAL;VALUE=DURATION:PT1H
X-Robots-Tag:noindex
X-PUBLISHED-TTL:PT1H
BEGIN:VTIMEZONE
TZID:America/New_York
BEGIN:DAYLIGHT
TZOFFSETFROM:-0500
TZOFFSETTO:-0400
TZNAME:EDT
DTSTART:20250309T070000
END:DAYLIGHT
BEGIN:STANDARD
TZOFFSETFROM:-0400
TZOFFSETTO:-0500
TZNAME:EST
DTSTART:20251102T060000
END:STANDARD
END:VTIMEZONE
BEGIN:VEVENT
DTSTART;TZID=America/New_York:20250730T100000
DTEND;TZID=America/New_York:20250730T110000
DTSTAMP:20260421T010629
CREATED:20250702T185844Z
LAST-MODIFIED:20250702T185844Z
UID:2717-1753869600-1753873200@www.mcnultycenter.org
SUMMARY:Business Formation for Veterans: "Build It Right From the Start"
DESCRIPTION:Join us\, Wednesday\, July 30\, 2025 from 10:00am – 11:00 ET for this free informational webinar. Selecting the appropriate legal structure is necessary in establishing and operating a business. Whether you’re starting a new venture or making your side hustle official\, this presentation is designed specifically for Veterans ready to take the next step in business. In this webinar\, we will identify and discuss the common business legal structures so that you can make an informed decision on the right entity choice for your business. \nIn This Session\, You’ll Learn: \n\nThe pros and cons of LLCs\, Corporations\, and Sole Proprietorships\nHow to choose the right structure for your mission\nLegal steps to register and protect your business\nTips for reducing liability and avoiding costly mistakes\nHow your Veteran status can help you access unique business resources and certifications\n\nREGISTER HERE
URL:https://www.mcnultycenter.org/event/business-formation-for-veterans-build-it-right-from-the-start/
ATTACH;FMTTYPE=image/png:https://www.mcnultycenter.org/wp-content/uploads/2025/07/Entity-Formation-7-30-25.png
END:VEVENT
BEGIN:VEVENT
DTSTART;TZID=America/New_York:20250730T130000
DTEND;TZID=America/New_York:20250730T143000
DTSTAMP:20260421T010629
CREATED:20250709T144549Z
LAST-MODIFIED:20250730T142347Z
UID:2733-1753880400-1753885800@www.mcnultycenter.org
SUMMARY:GOVOLOGY: How to Register and Maintain Your SAM.gov and SBA Profiles
DESCRIPTION:USE CODE 52VBOCR20 WHEN YOU REGISTER! \nAre you a business owner or aspiring entrepreneur looking to tap into government contracting opportunities? Join us for “How to Register and Maintain Your SAM.gov and SBA Profiles\,” a practical session designed to help you navigate the latest updates to two of the most important tools in federal procurement: SAM.gov and the Small Business Administration’s (SBA) Dynamic Small Business Search (DSBS). \nREGISTER HERE
URL:https://www.mcnultycenter.org/event/govology-how-to-register-and-maintain-your-sam-gov-and-sba-profiles-2/
ATTACH;FMTTYPE=image/png:https://www.mcnultycenter.org/wp-content/uploads/2025/07/How-to-Register-and-Maintain-Your-SAM.gov-and-SBA-Profiles-1.png
END:VEVENT
END:VCALENDAR