BEGIN:VCALENDAR
VERSION:2.0
PRODID:-//The Michael R. McNulty Veteran Business Center - ECPv6.14.2//NONSGML v1.0//EN
CALSCALE:GREGORIAN
METHOD:PUBLISH
X-WR-CALNAME:The Michael R. McNulty Veteran Business Center
X-ORIGINAL-URL:https://www.mcnultycenter.org
X-WR-CALDESC:Events for The Michael R. McNulty Veteran Business Center
REFRESH-INTERVAL;VALUE=DURATION:PT1H
X-Robots-Tag:noindex
X-PUBLISHED-TTL:PT1H
BEGIN:VTIMEZONE
TZID:America/New_York
BEGIN:DAYLIGHT
TZOFFSETFROM:-0500
TZOFFSETTO:-0400
TZNAME:EDT
DTSTART:20250309T070000
END:DAYLIGHT
BEGIN:STANDARD
TZOFFSETFROM:-0400
TZOFFSETTO:-0500
TZNAME:EST
DTSTART:20251102T060000
END:STANDARD
END:VTIMEZONE
BEGIN:VEVENT
DTSTART;TZID=America/New_York:20250729T100000
DTEND;TZID=America/New_York:20250729T110000
DTSTAMP:20260421T010536
CREATED:20250407T182603Z
LAST-MODIFIED:20250407T182603Z
UID:2577-1753783200-1753786800@www.mcnultycenter.org
SUMMARY:Business Planning 101
DESCRIPTION:Join us Wednesday\, July 29 from 10-11 AM ET as Amy Amoroso\, Director of VBOC NY/NJ will discuss how to utilize LivePlan to create your business plan from an idea to concept. She will walk you through LivePlan with a step-by-step guide on how to create your plan for accessing capital or for your own organizational needs or purposes. \nWe will discuss the overview of business plans and why they are needed\, step-by-step guide of LivePlan\, how to access capital and eligibility for access to LivePlan. \nREGISTER HERE \nThis webinar is Sponsored By: Pursuit
URL:https://www.mcnultycenter.org/event/business-planning-101-4/
ATTACH;FMTTYPE=image/png:https://www.mcnultycenter.org/wp-content/uploads/2025/04/Business-Planning-101-7-29-25.png
END:VEVENT
BEGIN:VEVENT
DTSTART;TZID=America/New_York:20250729T130000
DTEND;TZID=America/New_York:20250729T143000
DTSTAMP:20260421T010536
CREATED:20250626T171704Z
LAST-MODIFIED:20250626T171704Z
UID:2703-1753794000-1753799400@www.mcnultycenter.org
SUMMARY:GOVOLOGY: Understanding the Berry Amendment\, GOVOLOGY: Buy American Act (BAA)\, Trade Agreements\, and the Nonmanufacturer Rule
DESCRIPTION:USE CODE 52VBOCR20 WHEN YOU REGISTER! \nWhether you’re new to government sales or have been selling to federal agencies and the Department of Defense for years\, the landscape is changing. For the past 60 years\, the United States has increasingly outsourced and offshored manufacturing—but that’s shifting. Today\, government statutes and regulations are moving toward rebuilding a more domestic supply chain. \nWith the rise of strategic sourcing and category management\, it’s critical to understand how the Buy American Act (BAA) and the Non-Manufacturer Rule (NMR) apply to both full and open competitions and set-aside procurements. For example\, as of October 2023\, the domestic component threshold increased to 65%. If your company has been selling to the government for years\, these updated regulations may affect your competitiveness and market share. \nREGISTER HERE
URL:https://www.mcnultycenter.org/event/govology-understanding-the-berry-amendment-govology-buy-american-act-baa-trade-agreements-and-the-nonmanufacturer-rule/
ATTACH;FMTTYPE=image/jpeg:https://www.mcnultycenter.org/wp-content/uploads/2025/06/jpg-.jpg
END:VEVENT
END:VCALENDAR