BEGIN:VCALENDAR
VERSION:2.0
PRODID:-//The Michael R. McNulty Veteran Business Center - ECPv6.14.2//NONSGML v1.0//EN
CALSCALE:GREGORIAN
METHOD:PUBLISH
X-WR-CALNAME:The Michael R. McNulty Veteran Business Center
X-ORIGINAL-URL:https://www.mcnultycenter.org
X-WR-CALDESC:Events for The Michael R. McNulty Veteran Business Center
REFRESH-INTERVAL;VALUE=DURATION:PT1H
X-Robots-Tag:noindex
X-PUBLISHED-TTL:PT1H
BEGIN:VTIMEZONE
TZID:America/New_York
BEGIN:DAYLIGHT
TZOFFSETFROM:-0500
TZOFFSETTO:-0400
TZNAME:EDT
DTSTART:20250309T070000
END:DAYLIGHT
BEGIN:STANDARD
TZOFFSETFROM:-0400
TZOFFSETTO:-0500
TZNAME:EST
DTSTART:20251102T060000
END:STANDARD
END:VTIMEZONE
BEGIN:VEVENT
DTSTART;TZID=America/New_York:20250715T130000
DTEND;TZID=America/New_York:20250717T143000
DTSTAMP:20260421T030916
CREATED:20250626T165549Z
LAST-MODIFIED:20250626T165549Z
UID:2694-1752584400-1752762600@www.mcnultycenter.org
SUMMARY:GOVOLOGY: Is a GSA Schedule Right for You?
DESCRIPTION:USE CODE 52VBOCR20 WHEN YOU REGISTER! \nThis webinar is designed for business owners\, business development professionals\, and contracting teams who are considering whether a GSA Multiple Award Schedule (MAS) contract is the right path for their organization. \nThe GSA MAS program is a major federal contracting vehicle that gives businesses access to long-term\, government-wide contracts. However\, qualifying and applying for a schedule requires time\, resources\, and a clear understanding of federal procurement rules. This session provides a practical overview of the program and helps businesses determine if it’s a good strategic fit. \nWhat You Will Learn: \n\nWhat the GSA MAS Schedule is\, how it works\, and who uses it\nThe benefits and challenges of holding a GSA Schedule\nThe eligibility requirements and application process\nKey indicators that a business is ready—or not yet ready—to apply\nAlternatives to a GSA Schedule\, including subcontracting and teaming arrangements\n\nREGISTER HERE
URL:https://www.mcnultycenter.org/event/govology-is-a-gsa-schedule-right-for-you/
ATTACH;FMTTYPE=image/png:https://www.mcnultycenter.org/wp-content/uploads/2025/06/Is-a-GSA-Schedule-Right-for-You-1.png
END:VEVENT
BEGIN:VEVENT
DTSTART;TZID=America/New_York:20250717T090000
DTEND;TZID=America/New_York:20250718T160000
DTSTAMP:20260421T030916
CREATED:20250407T172817Z
LAST-MODIFIED:20250407T172817Z
UID:2572-1752742800-1752854400@www.mcnultycenter.org
SUMMARY:Boots to Business\, In Person\, West Point\, NY
DESCRIPTION:Register for this upcoming FREE training course Thursday July 17 & Friday July 18\, 2025 from 9AM-4:00 PM in West Point\, NY.\n\nBoots to Business is an entrepreneurial education and training program offered by the U.S. Small Business Administration (SBA). The course provides an overview of entrepreneurship and applicable business ownership fundamentals. Veterans of all eras\, Active Duty Service members (including National Guard and Reserve)\, and spouses are eligible to participate.\n\nREGISTER HERE
URL:https://www.mcnultycenter.org/event/boots-to-business-in-person-west-point-ny-3/
ATTACH;FMTTYPE=image/png:https://www.mcnultycenter.org/wp-content/uploads/2025/02/Boots-to-Business-logo-1.png
END:VEVENT
BEGIN:VEVENT
DTSTART;TZID=America/New_York:20250717T100000
DTEND;TZID=America/New_York:20250717T110000
DTSTAMP:20260421T030916
CREATED:20250609T173217Z
LAST-MODIFIED:20250609T173217Z
UID:2680-1752746400-1752750000@www.mcnultycenter.org
SUMMARY:Introduction to Google Ads
DESCRIPTION:Google advertising can be a great marketing tool for virtually any type and size of organization. With the ability to target ads\, and customize your ad spend\, this is an effective way to build your brand\, drive traffic to your website and gain more customers. In this class we introduce the Google Ads platforms and show you how to set up different campaigns including search\, display\, retargeting\, video\, and shopping ads. \nYou will leave this class with a solid understanding of what Google Ads are and why they are important\, tips for ad campaign success\, getting started and creating an ad campaign outline\, the different kinds of campaigns and how to set them up\, targeting a specific audience\, creating Google Ad landing pages\, creating reports\, analyzing performance\, and more. \nPresented by: Erik Bunaes\, Endorphin® Digital Marketing\, Constant Contact Local Expert and Adjunct Professor of Marketing. \nREGISTER HERE
URL:https://www.mcnultycenter.org/event/introduction-to-google-ads/
ATTACH;FMTTYPE=image/png:https://www.mcnultycenter.org/wp-content/uploads/2025/06/Google-Ads-7-17-25.png
END:VEVENT
BEGIN:VEVENT
DTSTART;TZID=America/New_York:20250717T130000
DTEND;TZID=America/New_York:20250717T143000
DTSTAMP:20260421T030916
CREATED:20250626T170412Z
LAST-MODIFIED:20250626T170412Z
UID:2697-1752757200-1752762600@www.mcnultycenter.org
SUMMARY:GOVOLOGY: Understanding & Addressing Federal Contract Terminations
DESCRIPTION:USE CODE 52VBOCR20 WHEN YOU REGISTER! \nTermination—whether for default or for convenience—is a risk present in every federal contract\, and understanding how to navigate it is critical for protecting your business. This webinar offers a comprehensive overview of the key Federal Acquisition Regulation (FAR) clauses governing terminations\, focusing on the crucial differences between terminations for default and terminations for convenience. Attendees will explore procedures\, consequences\, and contractor rights under each type\, while gaining practical strategies to mitigate risk\, submit compliant termination proposals\, and challenge problematic decisions. \nThrough real-world insights and expert guidance\, participants will walk away better prepared to manage termination risks and defend their interests in the federal contracting space. \nREGISTER HERE
URL:https://www.mcnultycenter.org/event/govology-understanding-addressing-federal-contract-terminations/
ATTACH;FMTTYPE=image/png:https://www.mcnultycenter.org/wp-content/uploads/2025/06/Understanding-Addressing-Federal-Contract-Terminations-1.png
END:VEVENT
END:VCALENDAR