BEGIN:VCALENDAR
VERSION:2.0
PRODID:-//The Michael R. McNulty Veteran Business Center - ECPv6.14.2//NONSGML v1.0//EN
CALSCALE:GREGORIAN
METHOD:PUBLISH
X-ORIGINAL-URL:https://www.mcnultycenter.org
X-WR-CALDESC:Events for The Michael R. McNulty Veteran Business Center
REFRESH-INTERVAL;VALUE=DURATION:PT1H
X-Robots-Tag:noindex
X-PUBLISHED-TTL:PT1H
BEGIN:VTIMEZONE
TZID:America/New_York
BEGIN:DAYLIGHT
TZOFFSETFROM:-0500
TZOFFSETTO:-0400
TZNAME:EDT
DTSTART:20250309T070000
END:DAYLIGHT
BEGIN:STANDARD
TZOFFSETFROM:-0400
TZOFFSETTO:-0500
TZNAME:EST
DTSTART:20251102T060000
END:STANDARD
END:VTIMEZONE
BEGIN:VEVENT
DTSTART;TZID=America/New_York:20250708T130000
DTEND;TZID=America/New_York:20250708T143000
DTSTAMP:20260421T031207
CREATED:20250626T164213Z
LAST-MODIFIED:20250730T142218Z
UID:2688-1751979600-1751985000@www.mcnultycenter.org
SUMMARY:GOVOLOGY: Developing Your First Cost and Pricing Proposal
DESCRIPTION:USE CODE 52VBOCR20 WHEN YOU REGISTER! \nPreparing a compliant and competitive cost and price proposal is one of the most crucial—and often most complex—steps in securing a government contract. This webinar is designed to demystify the process and help you build accurate\, well-supported proposals that stand up to scrutiny. \nWhether you’re new to federal contracting or aiming to strengthen your current proposal development process\, this session will guide you through the fundamentals with practical tools and expert insights. You’ll learn how to construct a defensible Basis of Estimate (BOE)\, calculate key cost elements\, apply appropriate escalation rates and profit guidelines\, and stay compliant with FAR and DFARS requirements. \nIn this session\, you will learn how to: \n\nConstruct a credible Basis of Estimate (BOE)\nIdentify and calculate key cost elements\nApply regulatory guidelines on profit and fee\nUnderstand weighted guidelines and escalation practices\n\nREGISTER HERE
URL:https://www.mcnultycenter.org/event/govology-developing-your-first-cost-and-pricing-proposal/
ATTACH;FMTTYPE=image/png:https://www.mcnultycenter.org/wp-content/uploads/2025/06/Developing-Your-First-Cost-and-Pricing-Proposal-1.png
END:VEVENT
END:VCALENDAR