BEGIN:VCALENDAR
VERSION:2.0
PRODID:-//The Michael R. McNulty Veteran Business Center - ECPv6.14.2//NONSGML v1.0//EN
CALSCALE:GREGORIAN
METHOD:PUBLISH
X-ORIGINAL-URL:https://www.mcnultycenter.org
X-WR-CALDESC:Events for The Michael R. McNulty Veteran Business Center
REFRESH-INTERVAL;VALUE=DURATION:PT1H
X-Robots-Tag:noindex
X-PUBLISHED-TTL:PT1H
BEGIN:VTIMEZONE
TZID:America/New_York
BEGIN:DAYLIGHT
TZOFFSETFROM:-0500
TZOFFSETTO:-0400
TZNAME:EDT
DTSTART:20250309T070000
END:DAYLIGHT
BEGIN:STANDARD
TZOFFSETFROM:-0400
TZOFFSETTO:-0500
TZNAME:EST
DTSTART:20251102T060000
END:STANDARD
END:VTIMEZONE
BEGIN:VEVENT
DTSTART;TZID=America/New_York:20250624T130000
DTEND;TZID=America/New_York:20250624T143000
DTSTAMP:20260421T051256
CREATED:20250527T141523Z
LAST-MODIFIED:20250527T141542Z
UID:2664-1750770000-1750775400@www.mcnultycenter.org
SUMMARY:GOVOLOGY: Navigating the Valley of Death: A Survival Guide for Startups
DESCRIPTION:USE CODE 52VBOCR20 WHEN YOU REGISTER! \nAre you preparing to launch a new product and worried about the critical phase between development and market success? The “Valley of Death” is a well-known challenge for startups\, representing the perilous period where many promising innovations fail to gain traction due to funding gaps\, operational hurdles\, and strategic missteps. \nIn this intensive 90-minute webinar\, you will learn: \n\nWhat the “Valley of Death” Is: Understand its significance\, risks\, and why so many startups struggle during this period.\nCommon Pitfalls: Discover the most frequent mistakes-such as premature scaling\, inadequate market research\, and inefficient resource allocation-and how to avoid them.\nFinancial Strategies: Explore funding options beyond initial seed capital\, including grants\, angel investors\, venture capital\, and partnerships. Learn how to manage your burn rate and present a compelling case to investors.\nOperational Efficiency: Gain insights into streamlining operations\, building a lean team\, leveraging technology\, and making data-driven decisions.\nGo-to-Market Strategy: Learn how to identify your ideal customer\, craft a compelling value proposition\, select effective sales channels\, and set pricing strategies.\nTracking Progress: Find out which key metrics to monitor\, how to spot early warning signs\, and how to adapt your strategy based on real-world feedback.\n\nREGISTER HERE
URL:https://www.mcnultycenter.org/event/navigating-the-valley-of-death-a-survival-guide-for-startups/
ATTACH;FMTTYPE=image/jpeg:https://www.mcnultycenter.org/wp-content/uploads/2025/05/Navigating-the-Valley.jpg
END:VEVENT
END:VCALENDAR