BEGIN:VCALENDAR
VERSION:2.0
PRODID:-//The Michael R. McNulty Veteran Business Center - ECPv6.14.2//NONSGML v1.0//EN
CALSCALE:GREGORIAN
METHOD:PUBLISH
X-WR-CALNAME:The Michael R. McNulty Veteran Business Center
X-ORIGINAL-URL:https://www.mcnultycenter.org
X-WR-CALDESC:Events for The Michael R. McNulty Veteran Business Center
REFRESH-INTERVAL;VALUE=DURATION:PT1H
X-Robots-Tag:noindex
X-PUBLISHED-TTL:PT1H
BEGIN:VTIMEZONE
TZID:America/New_York
BEGIN:DAYLIGHT
TZOFFSETFROM:-0500
TZOFFSETTO:-0400
TZNAME:EDT
DTSTART:20250309T070000
END:DAYLIGHT
BEGIN:STANDARD
TZOFFSETFROM:-0400
TZOFFSETTO:-0500
TZNAME:EST
DTSTART:20251102T060000
END:STANDARD
END:VTIMEZONE
BEGIN:VEVENT
DTSTART;TZID=America/New_York:20250619T100000
DTEND;TZID=America/New_York:20250619T110000
DTSTAMP:20260421T051257
CREATED:20250528T154912Z
LAST-MODIFIED:20250528T154912Z
UID:2675-1750327200-1750330800@www.mcnultycenter.org
SUMMARY:Why do I need a Company Website?
DESCRIPTION:Some small businesses have grown by relying on social media. Some might wonder\, why do I need a website and what benefits will a website bring? \nIn this class we will discuss social media\, branding and why it’s critical for any business to have a website. We’ll review some of the important information that should be on a website including a compelling story\, list of services or products\, customer reviews & sample work/case studies\, FAQs\, contact information\, social media links\, sign up forms and more. \nYou will leave this class with a solid understanding of how a website can benefit your company (and your customers!) and what useful information you should make available.\nPresented by: Erik Bunaes\, Endorphin® Digital Marketing\, Constant Contact Local Expert and Adjunct Professor of Marketing. \nREGISTER HERE
URL:https://www.mcnultycenter.org/event/why-do-i-need-a-company-website/
ATTACH;FMTTYPE=image/png:https://www.mcnultycenter.org/wp-content/uploads/2025/05/Company-Website-6-19-25.png
END:VEVENT
END:VCALENDAR