BEGIN:VCALENDAR
VERSION:2.0
PRODID:-//The Michael R. McNulty Veteran Business Center - ECPv6.14.2//NONSGML v1.0//EN
CALSCALE:GREGORIAN
METHOD:PUBLISH
X-ORIGINAL-URL:https://www.mcnultycenter.org
X-WR-CALDESC:Events for The Michael R. McNulty Veteran Business Center
REFRESH-INTERVAL;VALUE=DURATION:PT1H
X-Robots-Tag:noindex
X-PUBLISHED-TTL:PT1H
BEGIN:VTIMEZONE
TZID:America/New_York
BEGIN:DAYLIGHT
TZOFFSETFROM:-0500
TZOFFSETTO:-0400
TZNAME:EDT
DTSTART:20250309T070000
END:DAYLIGHT
BEGIN:STANDARD
TZOFFSETFROM:-0400
TZOFFSETTO:-0500
TZNAME:EST
DTSTART:20251102T060000
END:STANDARD
END:VTIMEZONE
BEGIN:VEVENT
DTSTART;TZID=America/New_York:20250605T130000
DTEND;TZID=America/New_York:20250605T143000
DTSTAMP:20260421T051256
CREATED:20250527T133351Z
LAST-MODIFIED:20250527T141721Z
UID:2652-1749128400-1749133800@www.mcnultycenter.org
SUMMARY:GOVOLOGY: Funding and Selling Innovative Solutions to Government Agencies
DESCRIPTION:USE CODE 52VBOCR20 WHEN YOU REGISTER! \nIf you’re part of an innovative firm with groundbreaking solutions and want to navigate the complex world of government procurement\, then this webinar is a must-attend. This training will equip you with the knowledge\, strategies\, and insights needed to thrive in the public sector. \nIn today’s fast-paced world\, innovative solutions often face the challenging “valley of death” when transitioning from development to implementation. But fear not! Our webinar goes beyond the surface\, delving deep into the strategies and resources available to innovative firms like yours. We’ll provide you with the tools necessary to overcome obstacles and successfully fund and sell your innovative products\, services\, and ideas to government agencies. \nREGISTER HERE
URL:https://www.mcnultycenter.org/event/2652/
ATTACH;FMTTYPE=image/jpeg:https://www.mcnultycenter.org/wp-content/uploads/2025/05/Funding-And-Selling-.jpg
END:VEVENT
END:VCALENDAR