BEGIN:VCALENDAR
VERSION:2.0
PRODID:-//The Michael R. McNulty Veteran Business Center - ECPv6.14.2//NONSGML v1.0//EN
CALSCALE:GREGORIAN
METHOD:PUBLISH
X-ORIGINAL-URL:https://www.mcnultycenter.org
X-WR-CALDESC:Events for The Michael R. McNulty Veteran Business Center
REFRESH-INTERVAL;VALUE=DURATION:PT1H
X-Robots-Tag:noindex
X-PUBLISHED-TTL:PT1H
BEGIN:VTIMEZONE
TZID:America/New_York
BEGIN:DAYLIGHT
TZOFFSETFROM:-0500
TZOFFSETTO:-0400
TZNAME:EDT
DTSTART:20250309T070000
END:DAYLIGHT
BEGIN:STANDARD
TZOFFSETFROM:-0400
TZOFFSETTO:-0500
TZNAME:EST
DTSTART:20251102T060000
END:STANDARD
END:VTIMEZONE
BEGIN:VEVENT
DTSTART;TZID=America/New_York:20250513T130000
DTEND;TZID=America/New_York:20250513T143000
DTSTAMP:20260421T064658
CREATED:20250428T145425Z
LAST-MODIFIED:20250428T145500Z
UID:2586-1747141200-1747146600@www.mcnultycenter.org
SUMMARY:GOVOLOGY: Termination Settlement Proposals
DESCRIPTION:USE CODE 52VBOCR20 WHEN YOU REGISTER! \nWhen the government terminates a contract for convenience\, it can leave contractors facing significant financial and operational setbacks. To mitigate these impacts\, businesses must act quickly to prepare a thorough termination settlement proposal—one that captures incurred costs\, outstanding commitments\, and lost profits on completed work. \nThis webinar offers practical guidance on navigating the termination settlement process. Attendees will learn how to identify and support allowable costs\, build a detailed and defensible proposal\, and implement strategies that maximize recovery during negotiations. \nREGISTER HERE
URL:https://www.mcnultycenter.org/event/govology-termination-settlement-proposals/
ATTACH;FMTTYPE=image/png:https://www.mcnultycenter.org/wp-content/uploads/2025/04/Termination-Settlement-Proposals-green-968px-by-645px.png
END:VEVENT
END:VCALENDAR