BEGIN:VCALENDAR
VERSION:2.0
PRODID:-//The Michael R. McNulty Veteran Business Center - ECPv6.14.2//NONSGML v1.0//EN
CALSCALE:GREGORIAN
METHOD:PUBLISH
X-WR-CALNAME:The Michael R. McNulty Veteran Business Center
X-ORIGINAL-URL:https://www.mcnultycenter.org
X-WR-CALDESC:Events for The Michael R. McNulty Veteran Business Center
REFRESH-INTERVAL;VALUE=DURATION:PT1H
X-Robots-Tag:noindex
X-PUBLISHED-TTL:PT1H
BEGIN:VTIMEZONE
TZID:America/New_York
BEGIN:DAYLIGHT
TZOFFSETFROM:-0500
TZOFFSETTO:-0400
TZNAME:EDT
DTSTART:20250309T070000
END:DAYLIGHT
BEGIN:STANDARD
TZOFFSETFROM:-0400
TZOFFSETTO:-0500
TZNAME:EST
DTSTART:20251102T060000
END:STANDARD
END:VTIMEZONE
BEGIN:VEVENT
DTSTART;TZID=America/New_York:20250426T090000
DTEND;TZID=America/New_York:20250426T133000
DTSTAMP:20260421T083049
CREATED:20250204T204428Z
LAST-MODIFIED:20250204T204458Z
UID:2394-1745658000-1745674200@www.mcnultycenter.org
SUMMARY:Veterans' Service2Success Resource and Job Fair
DESCRIPTION:The McNulty Veteran Business Center\, the area’s preeminent Veteran entrepreneurship resource is partnering with the Veterans Resource & Outreach Center\, Albany County Veterans Service Bureau\, Rensselaer County Veterans Service Agency\, and Schenectady County Veterans Peer to Peer Program to offer the Veterans’ Service2Success Resource and Job Fair. \nVeterans’ Service2Success provides FREE access to entrepreneurship\, employment\, education and benefits information for Veterans and their families. Veteran services providers\, employers\, academic institutions\, and public/private entities will exhibit for this day-long event. Featured will be informational sessions for entrepreneurial resources\, Veterans’ benefits assistance\, a job fair\, and networking opportunities with dozens of exhibitors\, and includes lunch. \nWHO: Veterans and military family members\nWHEN: Saturday\, April 26\, 2025\, 9:00 AM – 1:30 PM\nWHERE: Hudson Valley Community College\, Siek Campus Center I 80 Vandenburgh Avenue\, Troy\, NY 12180 \nREGISTER HERE
URL:https://www.mcnultycenter.org/event/veterans-service2success-resource-and-job-fair/
ATTACH;FMTTYPE=image/jpeg:https://www.mcnultycenter.org/wp-content/uploads/2025/02/VS2S-info-tile-4-26-25.jpg
END:VEVENT
END:VCALENDAR