BEGIN:VCALENDAR
VERSION:2.0
PRODID:-//The Michael R. McNulty Veteran Business Center - ECPv6.14.2//NONSGML v1.0//EN
CALSCALE:GREGORIAN
METHOD:PUBLISH
X-ORIGINAL-URL:https://www.mcnultycenter.org
X-WR-CALDESC:Events for The Michael R. McNulty Veteran Business Center
REFRESH-INTERVAL;VALUE=DURATION:PT1H
X-Robots-Tag:noindex
X-PUBLISHED-TTL:PT1H
BEGIN:VTIMEZONE
TZID:America/New_York
BEGIN:DAYLIGHT
TZOFFSETFROM:-0500
TZOFFSETTO:-0400
TZNAME:EDT
DTSTART:20250309T070000
END:DAYLIGHT
BEGIN:STANDARD
TZOFFSETFROM:-0400
TZOFFSETTO:-0500
TZNAME:EST
DTSTART:20251102T060000
END:STANDARD
END:VTIMEZONE
BEGIN:VEVENT
DTSTART;TZID=America/New_York:20250424T090000
DTEND;TZID=America/New_York:20250424T150000
DTSTAMP:20260421T083127
CREATED:20250402T164335Z
LAST-MODIFIED:20250402T164335Z
UID:2534-1745485200-1745506800@www.mcnultycenter.org
SUMMARY:FREE Quickbooks Training
DESCRIPTION:Once all spots are filled\, names will be added to the waitlist. \nQuickBooks is one of today’s business accounting lifesavers. This simple-to-use software can help you manage your inventory\, track the costs of your business\, generate professional invoices and purchase orders\, stay on top of accounts payables and receivables and ensure that your yearly tax preparation is accurate\, timely and frustration-free. QuickBooks training is like having a trusted business accountant with you every step of the way! \nTo register please email Jamie Hensel at Jhensel@mcnultycenter.org
URL:https://www.mcnultycenter.org/event/free-quickbooks-training-2/
ATTACH;FMTTYPE=image/png:https://www.mcnultycenter.org/wp-content/uploads/2025/04/Quickbooks-4-24-25.png
END:VEVENT
BEGIN:VEVENT
DTSTART;TZID=America/New_York:20250424T130000
DTEND;TZID=America/New_York:20250424T143000
DTSTAMP:20260421T083127
CREATED:20250325T171725Z
LAST-MODIFIED:20250325T172318Z
UID:2527-1745499600-1745505000@www.mcnultycenter.org
SUMMARY:GOVOLOGY: SBIR & STTR Compliance Requirements
DESCRIPTION:USE CODE 52VBOCR20 WHEN YOU REGISTER! \nFor many innovative small businesses and startups\, an SBIR or STTR award is their first government contract or grant. However\, these programs come with unique compliance and certification requirements that differ significantly from standard federal procurement processes. Understanding these rules is crucial\, as non-compliance can jeopardize award eligibility\, lead to false claims sanctions\, or result in withheld payments. \nThis webinar will provide clear guidance on SBIR/STTR Phase I and Phase II compliance\, covering proposal submissions\, award determinations\, and ongoing regulatory obligations throughout the funding agreement lifecycle. Attendees will also gain actionable strategies to protect their SBIR/STTR data and computer software from unauthorized use outside of the government. \nREGISTER HERE
URL:https://www.mcnultycenter.org/event/govology-sbir-sttr-compliance-requirements/
ATTACH;FMTTYPE=image/jpeg:https://www.mcnultycenter.org/wp-content/uploads/2025/03/SBIR-and-STTR-compliance.jpg
END:VEVENT
END:VCALENDAR