BEGIN:VCALENDAR
VERSION:2.0
PRODID:-//The Michael R. McNulty Veteran Business Center - ECPv6.14.2//NONSGML v1.0//EN
CALSCALE:GREGORIAN
METHOD:PUBLISH
X-WR-CALNAME:The Michael R. McNulty Veteran Business Center
X-ORIGINAL-URL:https://www.mcnultycenter.org
X-WR-CALDESC:Events for The Michael R. McNulty Veteran Business Center
REFRESH-INTERVAL;VALUE=DURATION:PT1H
X-Robots-Tag:noindex
X-PUBLISHED-TTL:PT1H
BEGIN:VTIMEZONE
TZID:America/New_York
BEGIN:DAYLIGHT
TZOFFSETFROM:-0500
TZOFFSETTO:-0400
TZNAME:EDT
DTSTART:20250309T070000
END:DAYLIGHT
BEGIN:STANDARD
TZOFFSETFROM:-0400
TZOFFSETTO:-0500
TZNAME:EST
DTSTART:20251102T060000
END:STANDARD
END:VTIMEZONE
BEGIN:VEVENT
DTSTART;TZID=America/New_York:20250417T083000
DTEND;TZID=America/New_York:20250418T130000
DTSTAMP:20260421T083050
CREATED:20250304T141317Z
LAST-MODIFIED:20250304T141317Z
UID:2500-1744878600-1744981200@www.mcnultycenter.org
SUMMARY:Boots to Business Reboot: Online\, New York\, NY
DESCRIPTION:Register for this upcoming FREE 2 day training course April 17 & 18\, 2025 from 8:30AM-1PM.\n\n\n\nBoots to Business Reboot is an entrepreneurial education and training program offered by the U.S. Small Business Administration (SBA). The course provides an overview of entrepreneurship and applicable business ownership fundamentals. Veterans of all eras\, Active Duty Service members (including National Guard and Reserve)\, and spouses are eligible to participate.\n\n\nThis event is sponsored by Pursuit Lending\n\nREGISTER HERE 
URL:https://www.mcnultycenter.org/event/boots-to-business-reboot-online-new-york-ny-2/
ATTACH;FMTTYPE=image/jpeg:https://www.mcnultycenter.org/wp-content/uploads/2025/02/B2B-Reboot.jpg
END:VEVENT
BEGIN:VEVENT
DTSTART;TZID=America/New_York:20250417T100000
DTEND;TZID=America/New_York:20250417T110000
DTSTAMP:20260421T083050
CREATED:20250303T182655Z
LAST-MODIFIED:20250324T172018Z
UID:2495-1744884000-1744887600@www.mcnultycenter.org
SUMMARY:Protecting Yourself and Your Team\, Workers' Compensation Board
DESCRIPTION:Join us\, Wednesday\, April 17\, from 10-11:00am ET for this free hour-long session about Protecting Yourself and Your Team: Coverage essentials for Businesses. The NYS Workers’ Compensation Board’s program director\, Walter Peretti\, will present on what employers\, business owners\, and human resources staff need to know about the workers’ compensation system\, and how the Office of the Advocate for Business can assist them. \nTopics covered include: \n\nInsurance types\nCoverage requirements\nEmployers’ obligations under the law\nWho needs coverage and who does not need coverage\nHow and when to report an injury or illness\nConsiderations when hiring independent contractors\, laborers\, and domestic workers\nTips for lowering premiums\nPenalties and where to go for assistance with them\n\nREGISTER HERE
URL:https://www.mcnultycenter.org/event/protecting-yourself-and-your-team-workers-compensation-board/
ATTACH;FMTTYPE=image/png:https://www.mcnultycenter.org/wp-content/uploads/2025/03/WCB-Graphic-4-17-25.png
END:VEVENT
END:VCALENDAR