BEGIN:VCALENDAR
VERSION:2.0
PRODID:-//The Michael R. McNulty Veteran Business Center - ECPv6.14.2//NONSGML v1.0//EN
CALSCALE:GREGORIAN
METHOD:PUBLISH
X-WR-CALNAME:The Michael R. McNulty Veteran Business Center
X-ORIGINAL-URL:https://www.mcnultycenter.org
X-WR-CALDESC:Events for The Michael R. McNulty Veteran Business Center
REFRESH-INTERVAL;VALUE=DURATION:PT1H
X-Robots-Tag:noindex
X-PUBLISHED-TTL:PT1H
BEGIN:VTIMEZONE
TZID:America/New_York
BEGIN:DAYLIGHT
TZOFFSETFROM:-0500
TZOFFSETTO:-0400
TZNAME:EDT
DTSTART:20250309T070000
END:DAYLIGHT
BEGIN:STANDARD
TZOFFSETFROM:-0400
TZOFFSETTO:-0500
TZNAME:EST
DTSTART:20251102T060000
END:STANDARD
END:VTIMEZONE
BEGIN:VEVENT
DTSTART;TZID=America/New_York:20250415T130000
DTEND;TZID=America/New_York:20250415T143000
DTSTAMP:20260421T083128
CREATED:20250325T170138Z
LAST-MODIFIED:20250410T190927Z
UID:2521-1744722000-1744727400@www.mcnultycenter.org
SUMMARY:GOVOLOGY: Government 2.0: How to Survive\, Thrive\, and Emerge From Disruption in the Federal Marketplace
DESCRIPTION:USE CODE 52VBOCR20 WHEN YOU REGISTER! \nThe federal marketplace is not simply evolving\, it’s being transformed. Do you understand what’s happening\, and is your company prepared to pivot? \nJoin us for a critical Market Update with Joshua Frank\, the managing partner at RSM Federal. This is not another executive order breakdown or policy webinar. Considered one of the top thought-leaders in industry\, Mr. Frank will provide a detailed analysis with tactical recommendations for navigating and positioning your company in the current marketplace. \nREGISTER HERE
URL:https://www.mcnultycenter.org/event/govology-how-to-effectively-take-advantage-of-your-8a-wosb-vosb-sdvosb-and-hubzone-certifications-to-win-government-contracts/
ATTACH;FMTTYPE=image/webp:https://www.mcnultycenter.org/wp-content/uploads/2025/03/800pxMarket-Update-Government-2.0.webp
END:VEVENT
END:VCALENDAR