BEGIN:VCALENDAR
VERSION:2.0
PRODID:-//The Michael R. McNulty Veteran Business Center - ECPv6.14.2//NONSGML v1.0//EN
CALSCALE:GREGORIAN
METHOD:PUBLISH
X-WR-CALNAME:The Michael R. McNulty Veteran Business Center
X-ORIGINAL-URL:https://www.mcnultycenter.org
X-WR-CALDESC:Events for The Michael R. McNulty Veteran Business Center
REFRESH-INTERVAL;VALUE=DURATION:PT1H
X-Robots-Tag:noindex
X-PUBLISHED-TTL:PT1H
BEGIN:VTIMEZONE
TZID:America/New_York
BEGIN:DAYLIGHT
TZOFFSETFROM:-0500
TZOFFSETTO:-0400
TZNAME:EDT
DTSTART:20250309T070000
END:DAYLIGHT
BEGIN:STANDARD
TZOFFSETFROM:-0400
TZOFFSETTO:-0500
TZNAME:EST
DTSTART:20251102T060000
END:STANDARD
END:VTIMEZONE
BEGIN:VEVENT
DTSTART;TZID=America/New_York:20250401T100000
DTEND;TZID=America/New_York:20250401T110000
DTSTAMP:20260421T083050
CREATED:20250228T151148Z
LAST-MODIFIED:20250228T151148Z
UID:2482-1743501600-1743505200@www.mcnultycenter.org
SUMMARY:Getting Found More! Driving More Visitors to Your Website
DESCRIPTION:Join us for a great session on website marketing for small business owners and marketing managers. In this class\, you will discuss several key factors in improving how you increase your visibility on the web\, getting found more in search engines and driving more visitors to your website. You will walk away from this webinar with an understanding on SEO along with several valuable resources on search engine optimization\, including a one-page SEO Tip Sheet. \nPresented by: Erik Bunaes\, Endorphin® Digital Marketing\, Constant Contact Local Expert and Adjunct Professor of Marketing. \nREGISTER HERE
URL:https://www.mcnultycenter.org/event/getting-found-more-driving-more-visitors-to-your-website/
ATTACH;FMTTYPE=image/png:https://www.mcnultycenter.org/wp-content/uploads/2025/02/Getting-Found-More-4-1-25.png
END:VEVENT
BEGIN:VEVENT
DTSTART;TZID=America/New_York:20250401T130000
DTEND;TZID=America/New_York:20250401T143000
DTSTAMP:20260421T083050
CREATED:20250325T164314Z
LAST-MODIFIED:20250325T164314Z
UID:2514-1743512400-1743517800@www.mcnultycenter.org
SUMMARY:GOVOLOGY: Simple Access to SBA Surety Bonds
DESCRIPTION:USE CODE 52VBOCR20 WHEN YOU REGISTER! \nFor small business contractors looking to secure larger projects\, surety bonds are a critical requirement. A surety bond is a financial guarantee that ensures a contractor will fulfill their contractual obligations. Many government contracts and large private-sector projects require these bonds to protect customers from financial loss. However\, securing a surety bond can be a challenge for small businesses due to stringent requirements\, financial hurdles\, and limited bonding capacity. \nThis webinar will provide step-by-step guidance on how to access SBA Surety Bonds—a powerful tool designed to help small businesses qualify for and obtain the bonding they need to compete for lucrative contracts. \nREGISTER HERE 
URL:https://www.mcnultycenter.org/event/govology-simple-access-to-sba-surety-bonds/
ATTACH;FMTTYPE=image/jpeg:https://www.mcnultycenter.org/wp-content/uploads/2025/03/Simple-Access-to-SBA-Surety-Bonds.jpg
END:VEVENT
END:VCALENDAR