BEGIN:VCALENDAR
VERSION:2.0
PRODID:-//The Michael R. McNulty Veteran Business Center - ECPv6.14.2//NONSGML v1.0//EN
CALSCALE:GREGORIAN
METHOD:PUBLISH
X-ORIGINAL-URL:https://www.mcnultycenter.org
X-WR-CALDESC:Events for The Michael R. McNulty Veteran Business Center
REFRESH-INTERVAL;VALUE=DURATION:PT1H
X-Robots-Tag:noindex
X-PUBLISHED-TTL:PT1H
BEGIN:VTIMEZONE
TZID:America/New_York
BEGIN:DAYLIGHT
TZOFFSETFROM:-0500
TZOFFSETTO:-0400
TZNAME:EDT
DTSTART:20250309T070000
END:DAYLIGHT
BEGIN:STANDARD
TZOFFSETFROM:-0400
TZOFFSETTO:-0500
TZNAME:EST
DTSTART:20251102T060000
END:STANDARD
END:VTIMEZONE
BEGIN:VEVENT
DTSTART;TZID=America/New_York:20250328T100000
DTEND;TZID=America/New_York:20250328T110000
DTSTAMP:20260421T135933
CREATED:20250224T202234Z
LAST-MODIFIED:20250224T202234Z
UID:2456-1743156000-1743159600@www.mcnultycenter.org
SUMMARY:Introduction to SCORE
DESCRIPTION:Join us\, Friday\, March 28\, from 10-11:00am ET for this free hour-long session. SCORE offers entrepreneurs free\, confidential business mentoring in person or remotely via email\, phone and video in all 50 U.S. states and territories. SCORE mentors are experts in entrepreneurship and business operations who volunteer their time to share their expertise with small business clients. SCORE has a library of online resources\, webinars and courses on demand and many local webinars and workshops. \nREGISTER HERE
URL:https://www.mcnultycenter.org/event/introduction-to-score/
ATTACH;FMTTYPE=image/png:https://www.mcnultycenter.org/wp-content/uploads/2025/02/Intro-to-SCORE-Graphic.png
END:VEVENT
END:VCALENDAR