BEGIN:VCALENDAR
VERSION:2.0
PRODID:-//The Michael R. McNulty Veteran Business Center - ECPv6.14.2//NONSGML v1.0//EN
CALSCALE:GREGORIAN
METHOD:PUBLISH
X-ORIGINAL-URL:https://www.mcnultycenter.org
X-WR-CALDESC:Events for The Michael R. McNulty Veteran Business Center
REFRESH-INTERVAL;VALUE=DURATION:PT1H
X-Robots-Tag:noindex
X-PUBLISHED-TTL:PT1H
BEGIN:VTIMEZONE
TZID:America/New_York
BEGIN:DAYLIGHT
TZOFFSETFROM:-0500
TZOFFSETTO:-0400
TZNAME:EDT
DTSTART:20250309T070000
END:DAYLIGHT
BEGIN:STANDARD
TZOFFSETFROM:-0400
TZOFFSETTO:-0500
TZNAME:EST
DTSTART:20251102T060000
END:STANDARD
END:VTIMEZONE
BEGIN:VEVENT
DTSTART;TZID=America/New_York:20250313T083000
DTEND;TZID=America/New_York:20250314T130000
DTSTAMP:20260422T173318
CREATED:20250210T180349Z
LAST-MODIFIED:20250228T170127Z
UID:2410-1741854600-1741957200@www.mcnultycenter.org
SUMMARY:Boots to Business Reboot: Online\, New York\, NY
DESCRIPTION:Register for this upcoming FREE 2 day training course March 13 & 14\, 2025 from 8:30AM-1PM.\n\n\n\nBoots to Business Reboot is an entrepreneurial education and training program offered by the U.S. Small Business Administration (SBA). The course provides an overview of entrepreneurship and applicable business ownership fundamentals. Veterans of all eras\, Active Duty Service members (including National Guard and Reserve)\, and spouses are eligible to participate.\n\n\nThis event is sponsored by Pursuit Lending\n\nREGISTER HERE 
URL:https://www.mcnultycenter.org/event/boots-to-business-reboot-online-new-york-ny/
ATTACH;FMTTYPE=image/jpeg:https://www.mcnultycenter.org/wp-content/uploads/2025/01/B2B-Reboot.jpg
END:VEVENT
BEGIN:VEVENT
DTSTART;TZID=America/New_York:20250313T100000
DTEND;TZID=America/New_York:20250313T110000
DTSTAMP:20260422T173318
CREATED:20250102T170940Z
LAST-MODIFIED:20250210T183655Z
UID:2336-1741860000-1741863600@www.mcnultycenter.org
SUMMARY:Marketing in a Digital World
DESCRIPTION:Join us\, Thursday\, March 13\, 2025\, from 10:00AM to 11:00AM ET\, where we will dive into marketing in this now\, digital world. During this webinar\, we will cover: \n\nYour unique business o Where your customers are\nMaximizing your online spaces o Analyzing and adjusting\nOwn your digital spaces\n\nThis webinar will be hosted by the VBOC NY/NJ and presented by: Nathan McCann\, Vice President | Sr. Business Consultant | PA / DE / NJ 1906 Rt 70 W\, Cherry NJ 08002 \nREGISTER HERE
URL:https://www.mcnultycenter.org/event/marketing-in-a-digital-world/
ATTACH;FMTTYPE=image/png:https://www.mcnultycenter.org/wp-content/uploads/2025/01/Marketing-in-a-Digital-World-3-13-25.png
END:VEVENT
BEGIN:VEVENT
DTSTART;TZID=America/New_York:20250313T130000
DTEND;TZID=America/New_York:20250313T143000
DTSTAMP:20260422T173318
CREATED:20250224T185952Z
LAST-MODIFIED:20250224T185952Z
UID:2447-1741870800-1741876200@www.mcnultycenter.org
SUMMARY:GOVOLOGY: Leveraging the Freedom of Information Act (FOIA) for Competitive Advantage in Government Contracting
DESCRIPTION:USE CODE 52VBOCR20 WHEN YOU REGISTER! \nNavigating the federal marketplace can be challenging for small business owners\, especially when they lack access to critical information about government contracts\, award decisions\, and potential competition. Many businesses don’t realize they have the right to request and obtain valuable contract-related information through the Freedom of Information Act (FOIA)—a tool that can level the playing field and provide insights that drive smarter business decisions. \nJoin us to learn how FOIA can be a game-changer for your business\, giving you the knowledge and competitive intelligence needed to compete more effectively\, challenge unfair procurement decisions\, and uncover new contracting opportunities. Don’t miss this chance to turn transparency into a strategic advantage! \nREGISTER HERE
URL:https://www.mcnultycenter.org/event/govology-leveraging-the-freedom-of-information-act-foia-for-competitive-advantage-in-government-contracting/
ATTACH;FMTTYPE=image/jpeg:https://www.mcnultycenter.org/wp-content/uploads/2025/02/4.jpg
END:VEVENT
END:VCALENDAR