BEGIN:VCALENDAR
VERSION:2.0
PRODID:-//The Michael R. McNulty Veteran Business Center - ECPv6.14.2//NONSGML v1.0//EN
CALSCALE:GREGORIAN
METHOD:PUBLISH
X-WR-CALNAME:The Michael R. McNulty Veteran Business Center
X-ORIGINAL-URL:https://www.mcnultycenter.org
X-WR-CALDESC:Events for The Michael R. McNulty Veteran Business Center
REFRESH-INTERVAL;VALUE=DURATION:PT1H
X-Robots-Tag:noindex
X-PUBLISHED-TTL:PT1H
BEGIN:VTIMEZONE
TZID:America/New_York
BEGIN:DAYLIGHT
TZOFFSETFROM:-0500
TZOFFSETTO:-0400
TZNAME:EDT
DTSTART:20250309T070000
END:DAYLIGHT
BEGIN:STANDARD
TZOFFSETFROM:-0400
TZOFFSETTO:-0500
TZNAME:EST
DTSTART:20251102T060000
END:STANDARD
END:VTIMEZONE
BEGIN:VEVENT
DTSTART;TZID=America/New_York:20250306T130000
DTEND;TZID=America/New_York:20250306T143000
DTSTAMP:20260423T061354
CREATED:20250224T183918Z
LAST-MODIFIED:20250224T183918Z
UID:2441-1741266000-1741271400@www.mcnultycenter.org
SUMMARY:GOVOLOGY: The Concept of “Responsibility” in Government Contracting
DESCRIPTION:USE CODE 52VBOCR20 WHEN YOU REGISTER! \nWinning a government contract requires more than just submitting the best proposal—your company must also be deemed “responsible” by the federal government. Responsibility in government contracting goes beyond technical capabilities and pricing; it encompasses financial stability\, past performance\, ethics\, compliance with laws\, security clearances\, and overall business integrity. Failure to meet responsibility requirements can lead to a contract award being denied\, even if a company submits the most competitive bid. \nAdditionally\, this session will explore the special rights that small businesses have to challenge negative responsibility determinations through the SBA’s Certificate of Competency (COC) process. Understanding how and when to leverage this option can be the difference between losing a contract and securing a valuable government opportunity. \nREGISTER HERE
URL:https://www.mcnultycenter.org/event/govology-the-concept-of-responsibility-in-government-contracting-2/
ATTACH;FMTTYPE=image/jpeg:https://www.mcnultycenter.org/wp-content/uploads/2025/02/2-.jpg
END:VEVENT
END:VCALENDAR