BEGIN:VCALENDAR
VERSION:2.0
PRODID:-//The Michael R. McNulty Veteran Business Center - ECPv6.14.2//NONSGML v1.0//EN
CALSCALE:GREGORIAN
METHOD:PUBLISH
X-WR-CALNAME:The Michael R. McNulty Veteran Business Center
X-ORIGINAL-URL:https://www.mcnultycenter.org
X-WR-CALDESC:Events for The Michael R. McNulty Veteran Business Center
REFRESH-INTERVAL;VALUE=DURATION:PT1H
X-Robots-Tag:noindex
X-PUBLISHED-TTL:PT1H
BEGIN:VTIMEZONE
TZID:America/New_York
BEGIN:DAYLIGHT
TZOFFSETFROM:-0500
TZOFFSETTO:-0400
TZNAME:EDT
DTSTART:20250309T070000
END:DAYLIGHT
BEGIN:STANDARD
TZOFFSETFROM:-0400
TZOFFSETTO:-0500
TZNAME:EST
DTSTART:20251102T060000
END:STANDARD
END:VTIMEZONE
BEGIN:VEVENT
DTSTART;TZID=America/New_York:20250305T100000
DTEND;TZID=America/New_York:20250305T110000
DTSTAMP:20260423T080630
CREATED:20250131T141345Z
LAST-MODIFIED:20250131T141345Z
UID:2379-1741168800-1741172400@www.mcnultycenter.org
SUMMARY:Reach Your Customers Through Email Marketing
DESCRIPTION:What’s the most efficient\, effective and affordable way to stay connected with your customers? Email marketing. Among all the digital channels available to your business\, email marketing boasts the strongest return on your investment. Join us as we discuss using email marketing to your business’s advantage\, and what email content will resonate most with your audience. \nPresented by: Erik Bunaes\, Endorphin® Digital Marketing\, Constant Contact Local Expert and Adjunct Professor of Marketing. \nREGISTER HERE
URL:https://www.mcnultycenter.org/event/reach-your-customers-through-email-marketing/
ATTACH;FMTTYPE=image/png:https://www.mcnultycenter.org/wp-content/uploads/2025/01/Blank-1200-x-630-copy-7.png
END:VEVENT
END:VCALENDAR