BEGIN:VCALENDAR
VERSION:2.0
PRODID:-//The Michael R. McNulty Veteran Business Center - ECPv6.14.2//NONSGML v1.0//EN
CALSCALE:GREGORIAN
METHOD:PUBLISH
X-ORIGINAL-URL:https://www.mcnultycenter.org
X-WR-CALDESC:Events for The Michael R. McNulty Veteran Business Center
REFRESH-INTERVAL;VALUE=DURATION:PT1H
X-Robots-Tag:noindex
X-PUBLISHED-TTL:PT1H
BEGIN:VTIMEZONE
TZID:America/New_York
BEGIN:DAYLIGHT
TZOFFSETFROM:-0500
TZOFFSETTO:-0400
TZNAME:EDT
DTSTART:20250309T070000
END:DAYLIGHT
BEGIN:STANDARD
TZOFFSETFROM:-0400
TZOFFSETTO:-0500
TZNAME:EST
DTSTART:20251102T060000
END:STANDARD
END:VTIMEZONE
BEGIN:VEVENT
DTSTART;TZID=America/New_York:20250304T100000
DTEND;TZID=America/New_York:20250304T110000
DTSTAMP:20260423T100506
CREATED:20250210T160446Z
LAST-MODIFIED:20250210T160446Z
UID:2407-1741082400-1741086000@www.mcnultycenter.org
SUMMARY:How to Fund Your Veteran Owned Business
DESCRIPTION:Did you know that there are special loan programs available specifically for veteran-owned businesses like yours? When you’re growing your business\, you could take advantage of discounted interest rates and more favorable loan terms\, keeping more money in your business! \nJoin Pursuit’s Keri Pratico to learn more about these programs and others that can benefit your veteran-owned business! You’ll walk away with actionable advice to get you prepared for a loan application and more. \nREGISTER HERE
URL:https://www.mcnultycenter.org/event/how-to-fund-your-veteran-owned-business-4/
ATTACH;FMTTYPE=image/png:https://www.mcnultycenter.org/wp-content/uploads/2025/02/Fund-your-VOB-3-4-25.png
END:VEVENT
BEGIN:VEVENT
DTSTART;TZID=America/New_York:20250304T130000
DTEND;TZID=America/New_York:20250304T140000
DTSTAMP:20260423T100506
CREATED:20250224T183238Z
LAST-MODIFIED:20250224T183259Z
UID:2438-1741093200-1741096800@www.mcnultycenter.org
SUMMARY:GOVOLOGY: How to Justify Increased Profit/Fee Under DoD Contracts Requiring Certified Cost or Pricing Data
DESCRIPTION:USE CODE 52VBOCR20 WHEN YOU REGISTER! \nThis webinar provides critical insights into the Department of Defense (DoD)’s profit policies and how businesses can justify and negotiate a higher profit or fees on DoD contracts and contract modifications that require the submission of certified cost or pricing data under Federal Acquisition Regulation (FAR) 15.403-4. \nMany businesses are unaware that the government’s pre-negotiation profit objectives\, developed using the Weighted Guidelines method\, can vary significantly depending on the underlying assumptions and values used. Furthermore\, some businesses do not realize that they can negotiate a higher profit or fee. As a result\, they may unknowingly accept the Government’s proposed profit rate on contracts with higher-than-normal performance risk that warrant a higher profit. \nIn this webinar\, you will learn how to develop effective strategies that can be used to negotiate higher profit or fee positions that are fully justified under DoD’s weighted guidelines (profit) method application. \nREGISTER HERE
URL:https://www.mcnultycenter.org/event/govology-how-to-justify-increased-profit-fee-under-dod-contracts-requiring-certified-cost-or-pricing-data-2/
ATTACH;FMTTYPE=image/jpeg:https://www.mcnultycenter.org/wp-content/uploads/2025/02/1.jpg
END:VEVENT
END:VCALENDAR