BEGIN:VCALENDAR
VERSION:2.0
PRODID:-//The Michael R. McNulty Veteran Business Center - ECPv6.14.2//NONSGML v1.0//EN
CALSCALE:GREGORIAN
METHOD:PUBLISH
X-ORIGINAL-URL:https://www.mcnultycenter.org
X-WR-CALDESC:Events for The Michael R. McNulty Veteran Business Center
REFRESH-INTERVAL;VALUE=DURATION:PT1H
X-Robots-Tag:noindex
X-PUBLISHED-TTL:PT1H
BEGIN:VTIMEZONE
TZID:America/New_York
BEGIN:DAYLIGHT
TZOFFSETFROM:-0500
TZOFFSETTO:-0400
TZNAME:EDT
DTSTART:20250309T070000
END:DAYLIGHT
BEGIN:STANDARD
TZOFFSETFROM:-0400
TZOFFSETTO:-0500
TZNAME:EST
DTSTART:20251102T060000
END:STANDARD
END:VTIMEZONE
BEGIN:VEVENT
DTSTART;TZID=America/New_York:20250227T090000
DTEND;TZID=America/New_York:20250228T160000
DTSTAMP:20260423T173259
CREATED:20250203T203713Z
LAST-MODIFIED:20250203T203731Z
UID:2389-1740646800-1740758400@www.mcnultycenter.org
SUMMARY:Boots to Business\, In Person\, West Point\, NY
DESCRIPTION:Register for this upcoming FREE training course Thursday February 27 & Friday February 28\, 2025 from 9AM-4:00 PM in West Point\, NY.\n\n\n\n\nBoots to Business is an entrepreneurial education and training program offered by the U.S. Small Business Administration (SBA). The course provides an overview of entrepreneurship and applicable business ownership fundamentals. Veterans of all eras\, Active Duty Service members (including National Guard and Reserve)\, and spouses are eligible to participate.\n\n\n\nREGISTER HERE
URL:https://www.mcnultycenter.org/event/boots-to-business-in-person-west-point-ny/
ATTACH;FMTTYPE=image/png:https://www.mcnultycenter.org/wp-content/uploads/2025/02/Boots-to-Business-logo-1.png
END:VEVENT
BEGIN:VEVENT
DTSTART;TZID=America/New_York:20250228T090000
DTEND;TZID=America/New_York:20250228T170000
DTSTAMP:20260423T173259
CREATED:20250131T180652Z
LAST-MODIFIED:20250203T203256Z
UID:2382-1740733200-1740762000@www.mcnultycenter.org
SUMMARY:Boots to Business Reboot: In Person\, Vineland\, NJ
DESCRIPTION:Register for this upcoming FREE training course Friday\, February 28\, 2025 from 9AM-5:00 PM in Vineland\, NJ at Rowan College of South Jersey.\n\n\n\nBoots to Business Reboot is an entrepreneurial education and training program offered by the U.S. Small Business Administration (SBA). The course provides an overview of entrepreneurship and applicable business ownership fundamentals. Veterans of all eras\, Active Duty Service members (including National Guard and Reserve)\, and spouses are eligible to participate.\n\n\n\nREGISTER HERE\n\nREGISTRATION REQUIRED
URL:https://www.mcnultycenter.org/event/in-person-b2br-vineland-nj/
ATTACH;FMTTYPE=image/jpeg:https://www.mcnultycenter.org/wp-content/uploads/2025/01/B2B-Reboot.jpg
END:VEVENT
END:VCALENDAR